BEGIN:VCALENDAR
VERSION:2.0
PRODID:-// - ECPv6.7.1//NONSGML v1.0//EN
CALSCALE:GREGORIAN
METHOD:PUBLISH
X-ORIGINAL-URL:https://training.piyamanee.com
X-WR-CALDESC:Events for 
REFRESH-INTERVAL;VALUE=DURATION:PT1H
X-Robots-Tag:noindex
X-PUBLISHED-TTL:PT1H
BEGIN:VTIMEZONE
TZID:Asia/Krasnoyarsk
BEGIN:STANDARD
TZOFFSETFROM:+0700
TZOFFSETTO:+0700
TZNAME:+07
DTSTART:20230101T000000
END:STANDARD
END:VTIMEZONE
BEGIN:VEVENT
DTSTART;TZID=Asia/Krasnoyarsk:20241120T080000
DTEND;TZID=Asia/Krasnoyarsk:20241120T163000
DTSTAMP:20260422T040744
CREATED:20241030T074808Z
LAST-MODIFIED:20241030T074808Z
UID:1959-1732089600-1732120200@training.piyamanee.com
SUMMARY:อบรมหลักสูตร "การประเมินความเสี่ยง และโอกาส ISO9001:2015"
DESCRIPTION:อบรมหลักสูตร “การประเมินความเสี่ยง และโอกาส ISO9001:2015”\n20 พฤศจิกายน 2567 \n\n\n\n\n\n\n\n📣 Piyamanee Service Training Center ขอเชิญเข้าร่วมอบรมหลักสูตร “การประเมินความเสี่ยง และโอกาส ISO9001:2015”
URL:https://training.piyamanee.com/event/%e0%b8%ad%e0%b8%9a%e0%b8%a3%e0%b8%a1%e0%b8%ab%e0%b8%a5%e0%b8%b1%e0%b8%81%e0%b8%aa%e0%b8%b9%e0%b8%95%e0%b8%a3-%e0%b8%81%e0%b8%b2%e0%b8%a3%e0%b8%9b%e0%b8%a3%e0%b8%b0%e0%b9%80%e0%b8%a1%e0%b8%b4/
END:VEVENT
BEGIN:VEVENT
DTSTART;TZID=Asia/Krasnoyarsk:20241118T080000
DTEND;TZID=Asia/Krasnoyarsk:20241118T163000
DTSTAMP:20260422T040744
CREATED:20241030T074329Z
LAST-MODIFIED:20241030T074329Z
UID:1956-1731916800-1731947400@training.piyamanee.com
SUMMARY:อบรมออนไลน์ ครั้งที่ 5 "ระบบมาตรฐานการจัดการสิ่งแวดล้อม ISO14001:2015 - ZOOM"
DESCRIPTION:อบรมออนไลน์ ครั้งที่ 5 “ระบบมาตรฐานการจัดการสิ่งแวดล้อม ISO14001:2015 – ZOOM”\n18 พฤศจิกายน 2567 \n\n\n\n\n\n\n\n📣 Piyamanee Training Center ขอเชิญเข้าร่วมอบรมออนไลน์ ครั้งที่ 5 “ระบบมาตรฐานการจัดการสิ่งแวดล้อม ISO14001:2015 – ZOOM”
URL:https://training.piyamanee.com/event/%e0%b8%ad%e0%b8%9a%e0%b8%a3%e0%b8%a1%e0%b8%ad%e0%b8%ad%e0%b8%99%e0%b9%84%e0%b8%a5%e0%b8%99%e0%b9%8c-%e0%b8%84%e0%b8%a3%e0%b8%b1%e0%b9%89%e0%b8%87%e0%b8%97%e0%b8%b5%e0%b9%88-5-%e0%b8%a3%e0%b8%b0/
END:VEVENT
BEGIN:VEVENT
DTSTART;TZID=Asia/Krasnoyarsk:20241115T080000
DTEND;TZID=Asia/Krasnoyarsk:20241115T163000
DTSTAMP:20260422T040744
CREATED:20241030T073922Z
LAST-MODIFIED:20241030T073922Z
UID:1951-1731657600-1731688200@training.piyamanee.com
SUMMARY:อบรมหลักสูตร "ความปลอดภัยในการทำงานบนที่สูง"
DESCRIPTION:อบรมหลักสูตร “ความปลอดภัยในการทำงานบนที่สูง”\n15 พฤศจิกายน 2567 \n\n\n\n\n\n\n\n📣 Piyamanee Service Training Center ขอเชิญเข้าร่วมอบรมหลักสูตร “Work at Height ความปลอดภัยในการทำงานบนที่สูง”
URL:https://training.piyamanee.com/event/%e0%b8%ad%e0%b8%9a%e0%b8%a3%e0%b8%a1%e0%b8%ab%e0%b8%a5%e0%b8%b1%e0%b8%81%e0%b8%aa%e0%b8%b9%e0%b8%95%e0%b8%a3-%e0%b8%84%e0%b8%a7%e0%b8%b2%e0%b8%a1%e0%b8%9b%e0%b8%a5%e0%b8%ad%e0%b8%94%e0%b8%a0-5/
END:VEVENT
BEGIN:VEVENT
DTSTART;TZID=Asia/Krasnoyarsk:20241108T080000
DTEND;TZID=Asia/Krasnoyarsk:20241108T163000
DTSTAMP:20260422T040744
CREATED:20241023T011647Z
LAST-MODIFIED:20241030T073602Z
UID:1925-1731052800-1731083400@training.piyamanee.com
SUMMARY:โครงการอบรมฟรีทำดีเพื่อแผ่นดิน ครั้งที่ 62 "การปฏิบัติงานในที่สูง ด้วยอุปกรณ์เข็มขัดนิรภัย เชือกนิรภัย และสายช่วยชีวิต ตามลักษณะงาน"
DESCRIPTION:โครงการอบรมฟรีทำดีเพื่อแผ่นดิน ครั้งที่ 62 “การปฏิบัติงานในที่สูง ด้วยอุปกรณ์เข็มขัดนิรภัย เชือกนิรภัย และสายช่วยชีวิต ตามลักษณะงาน”\n8 พฤศจิกายน 2567 \n\n\n\n\n\n\n\n📣 Piyamanee Training Center ขอเชิญเข้าร่วมอบรมสัมมนา โครงการอบรมฟรี ทำดีเพื่อแผ่นดิน ครั้งที่ 62 “การปฏิบัติงานในที่สูง ด้วยอุปกรณ์เข็มขัดนิรภัย เชือกนิรภัย และสายช่วยชีวิต ตามลักษณะงาน”
URL:https://training.piyamanee.com/event/%e0%b9%82%e0%b8%84%e0%b8%a3%e0%b8%87%e0%b8%81%e0%b8%b2%e0%b8%a3%e0%b8%ad%e0%b8%9a%e0%b8%a3%e0%b8%a1%e0%b8%9f%e0%b8%a3%e0%b8%b5%e0%b8%97%e0%b8%b3%e0%b8%94%e0%b8%b5%e0%b9%80%e0%b8%9e%e0%b8%b7-29/
END:VEVENT
BEGIN:VEVENT
DTSTART;TZID=Asia/Krasnoyarsk:20241107T080000
DTEND;TZID=Asia/Krasnoyarsk:20241107T163000
DTSTAMP:20260422T040744
CREATED:20241023T013514Z
LAST-MODIFIED:20241030T073354Z
UID:1929-1730966400-1730997000@training.piyamanee.com
SUMMARY:อบรมหลักสูตร "เจาะลึกข้อกำหนด ISO9001:2015"
DESCRIPTION:อบรมหลักสูตร “เจาะลึกข้อกำหนด ISO9001:2015”\n7 พฤศจิกายน 2567 \n\n\n\n\n\n\n\n📣 Piyamanee Service Training Center ขอเชิญเข้าร่วมอบรมหลักสูตร “เจาะลึกข้อกำหนด ISO9001:2015”
URL:https://training.piyamanee.com/event/%e0%b8%ad%e0%b8%9a%e0%b8%a3%e0%b8%a1%e0%b8%ab%e0%b8%a5%e0%b8%b1%e0%b8%81%e0%b8%aa%e0%b8%b9%e0%b8%95%e0%b8%a3-%e0%b8%84%e0%b8%a7%e0%b8%b2%e0%b8%a1%e0%b8%9b%e0%b8%a5%e0%b8%ad%e0%b8%94%e0%b8%a0-4/
END:VEVENT
BEGIN:VEVENT
DTSTART;TZID=Asia/Krasnoyarsk:20241029T080000
DTEND;TZID=Asia/Krasnoyarsk:20241029T080000
DTSTAMP:20260422T040744
CREATED:20241010T044630Z
LAST-MODIFIED:20241010T044638Z
UID:1913-1730188800-1730188800@training.piyamanee.com
SUMMARY:อบรมหลักสูตร "ความปลอดภัยในการทำงานบนที่สูง"
DESCRIPTION:อบรมหลักสูตร “ความปลอดภัยในการทำงานบนที่สูง”\n29 ตุลาคม 2567 \n\n\n\n\n\n\n\n📣 Piyamanee Service Training Center ขอเชิญเข้าร่วมอบรมหลักสูตร “Work at Height ความปลอดภัยในการทำงานบนที่สูง”
URL:https://training.piyamanee.com/event/%e0%b8%ad%e0%b8%9a%e0%b8%a3%e0%b8%a1%e0%b8%ab%e0%b8%a5%e0%b8%b1%e0%b8%81%e0%b8%aa%e0%b8%b9%e0%b8%95%e0%b8%a3-%e0%b8%84%e0%b8%a7%e0%b8%b2%e0%b8%a1%e0%b8%9b%e0%b8%a5%e0%b8%ad%e0%b8%94%e0%b8%a0-3/
END:VEVENT
BEGIN:VEVENT
DTSTART;TZID=Asia/Krasnoyarsk:20241026T080000
DTEND;TZID=Asia/Krasnoyarsk:20241026T080000
DTSTAMP:20260422T040744
CREATED:20241010T044304Z
LAST-MODIFIED:20241010T044304Z
UID:1907-1729929600-1729929600@training.piyamanee.com
SUMMARY:อบรมออนไลน์ ครั้งที่ 4 "ข้อกำหนดและการประยุกต์ใช้ ระบบการจัดการ อาชีวอนามัยและความปลอดภัย ISO 45001 : 2018 - ZOOM"
DESCRIPTION:อบรมออนไลน์ ครั้งที่ 4 “ข้อกำหนดและการประยุกต์ใช้ ระบบการจัดการ อาชีวอนามัยและความปลอดภัย ISO 45001 : 2018 – ZOOM”\n26 ตุลาคม 2567 \n\n\n\n\n\n\n\n📣 Piyamanee Training Center ขอเชิญเข้าร่วมอบรมออนไลน์ ครั้งที่ 4 “ข้อกำหนดและการประยุกต์ใช้ ระบบการจัดการ อาชีวอนามัยและความปลอดภัย ISO 45001 : 2018 – ZOOM”
URL:https://training.piyamanee.com/event/%e0%b8%ad%e0%b8%9a%e0%b8%a3%e0%b8%a1%e0%b8%ad%e0%b8%ad%e0%b8%99%e0%b9%84%e0%b8%a5%e0%b8%99%e0%b9%8c-%e0%b8%84%e0%b8%a3%e0%b8%b1%e0%b9%89%e0%b8%87%e0%b8%97%e0%b8%b5%e0%b9%88-4-%e0%b8%82%e0%b9%89/
END:VEVENT
BEGIN:VEVENT
DTSTART;TZID=Asia/Krasnoyarsk:20241024T080000
DTEND;TZID=Asia/Krasnoyarsk:20241024T080000
DTSTAMP:20260422T040744
CREATED:20240913T020126Z
LAST-MODIFIED:20240913T020126Z
UID:1895-1729756800-1729756800@training.piyamanee.com
SUMMARY:โครงการอบรมฟรีทำดีเพื่อแผ่นดิน ครั้งที่ 60 "การปฐมพยาบาลและการกู้ชีพ การใช้งานเครื่อง AED"
DESCRIPTION:โครงการอบรมฟรีทำดีเพื่อแผ่นดิน ครั้งที่ 60 “การปฐมพยาบาลและการกู้ชีพ การใช้งานเครื่อง AED”\n24 ตุลาคม 2567 \n\n\n\n\n\n\n\n📣 Piyamanee Training Center ขอเชิญเข้าร่วมอบรมสัมมนา โครงการอบรมฟรี ทำดีเพื่อแผ่นดิน ครั้งที่ 60 “การปฐมพยาบาลและการกู้ชีพ (FIRST AID & CPR BASIC) การใช้งานเครื่อง AED จาก Alcotec”
URL:https://training.piyamanee.com/event/%e0%b9%82%e0%b8%84%e0%b8%a3%e0%b8%87%e0%b8%81%e0%b8%b2%e0%b8%a3%e0%b8%ad%e0%b8%9a%e0%b8%a3%e0%b8%a1%e0%b8%9f%e0%b8%a3%e0%b8%b5%e0%b8%97%e0%b8%b3%e0%b8%94%e0%b8%b5%e0%b9%80%e0%b8%9e%e0%b8%b7-27/
END:VEVENT
BEGIN:VEVENT
DTSTART;TZID=Asia/Krasnoyarsk:20241018T080000
DTEND;TZID=Asia/Krasnoyarsk:20241018T080000
DTSTAMP:20260422T040744
CREATED:20240913T020157Z
LAST-MODIFIED:20240913T020157Z
UID:1897-1729238400-1729238400@training.piyamanee.com
SUMMARY:โครงการอบรมฟรีทำดีเพื่อแผ่นดิน ครั้งที่ 61 "การปฏิบัติงานในพื้นที่อับอากาศด้วยอุปกรณ์ SCBA และ Gas Detector"
DESCRIPTION:โครงการอบรมฟรีทำดีเพื่อแผ่นดิน ครั้งที่ 61 “การปฏิบัติงานในพื้นที่อับอากาศด้วยอุปกรณ์ SCBA และ Gas Detector”\n18 ตุลาคม 2567 \n\n\n\n\n\n\n\n📣 Piyamanee Training Center ขอเชิญเข้าร่วมอบรมสัมมนา โครงการอบรมฟรี ทำดีเพื่อแผ่นดิน ครั้งที่ 61 “โครงการอบรมฟรีทำดีเพื่อแผ่นดิน ครั้งที่ 61 “การปฏิบัติงานในพื้นที่อับอากาศด้วยอุปกรณ์ SCBA และ Gas Detector”
URL:https://training.piyamanee.com/event/%e0%b9%82%e0%b8%84%e0%b8%a3%e0%b8%87%e0%b8%81%e0%b8%b2%e0%b8%a3%e0%b8%ad%e0%b8%9a%e0%b8%a3%e0%b8%a1%e0%b8%9f%e0%b8%a3%e0%b8%b5%e0%b8%97%e0%b8%b3%e0%b8%94%e0%b8%b5%e0%b9%80%e0%b8%9e%e0%b8%b7-28/
END:VEVENT
BEGIN:VEVENT
DTSTART;TZID=Asia/Krasnoyarsk:20241015T080000
DTEND;TZID=Asia/Krasnoyarsk:20241015T080000
DTSTAMP:20260422T040744
CREATED:20240913T020053Z
LAST-MODIFIED:20240913T020053Z
UID:1893-1728979200-1728979200@training.piyamanee.com
SUMMARY:โครงการอบรมฟรีทำดีเพื่อแผ่นดิน ครั้งที่ 59 "การทำงานบนหลังคาด้วยระบบ LIFELINE ตามมาตรฐานสากล"
DESCRIPTION:โครงการอบรมฟรีทำดีเพื่อแผ่นดิน ครั้งที่ 59 “การทำงานบนหลังคาด้วยระบบ LIFELINE ตามมาตรฐานสากล”\n15 ตุลาคม 2567 \n\n\n\n\n\n\n\n📣 Piyamanee Training Center ขอเชิญเข้าร่วมอบรมสัมมนา โครงการอบรมฟรี ทำดีเพื่อแผ่นดิน ครั้งที่ 59 “การทำงานบนหลังคาด้วยระบบ LIFELINE ตามมาตรฐานสากล” (EN795:2012\, ANZI Z359.1-2007\, OSHA 1926.502 AND 1910.66 COMPLIANT)
URL:https://training.piyamanee.com/event/%e0%b9%82%e0%b8%84%e0%b8%a3%e0%b8%87%e0%b8%81%e0%b8%b2%e0%b8%a3%e0%b8%ad%e0%b8%9a%e0%b8%a3%e0%b8%a1%e0%b8%9f%e0%b8%a3%e0%b8%b5%e0%b8%97%e0%b8%b3%e0%b8%94%e0%b8%b5%e0%b9%80%e0%b8%9e%e0%b8%b7-26/
END:VEVENT
BEGIN:VEVENT
DTSTART;TZID=Asia/Krasnoyarsk:20240921T080000
DTEND;TZID=Asia/Krasnoyarsk:20240921T080000
DTSTAMP:20260422T040744
CREATED:20240830T075719Z
LAST-MODIFIED:20240830T075719Z
UID:1858-1726905600-1726905600@training.piyamanee.com
SUMMARY:อบรมหลักสูตร "ความปลอดภัยในการทำงานเกี่ยวกับไฟฟ้า"
DESCRIPTION:อบรมหลักสูตร “ความปลอดภัยในการทำงานเกี่ยวกับไฟฟ้า”\n21 กันยายน 2567 \n\n\n\n\n\n\n\n📣 Piyamanee Service Training Center ขอเชิญเข้าร่วมอบรมหลักสูตร “ความปลอดภัยในการทำงานเกี่ยวกับไฟฟ้า”
URL:https://training.piyamanee.com/event/%e0%b8%ad%e0%b8%9a%e0%b8%a3%e0%b8%a1%e0%b8%ab%e0%b8%a5%e0%b8%b1%e0%b8%81%e0%b8%aa%e0%b8%b9%e0%b8%95%e0%b8%a3-%e0%b8%84%e0%b8%a7%e0%b8%b2%e0%b8%a1%e0%b8%9b%e0%b8%a5%e0%b8%ad%e0%b8%94%e0%b8%a0-2/
END:VEVENT
BEGIN:VEVENT
DTSTART;TZID=Asia/Krasnoyarsk:20240920T080000
DTEND;TZID=Asia/Krasnoyarsk:20240920T080000
DTSTAMP:20260422T040744
CREATED:20240830T075414Z
LAST-MODIFIED:20240830T075414Z
UID:1852-1726819200-1726819200@training.piyamanee.com
SUMMARY:อบรมหลักสูตร "ความปลอดภัยในการทำงานบนที่สูง"
DESCRIPTION:อบรมหลักสูตร “ความปลอดภัยในการทำงานบนที่สูง”\n20 กันยายน 2567 \n\n\n\n\n\n\n\n📣 Piyamanee Service Training Center ขอเชิญเข้าร่วมอบรมหลักสูตร “Work at Height ความปลอดภัยในการทำงานบนที่สูง”
URL:https://training.piyamanee.com/event/%e0%b8%ad%e0%b8%9a%e0%b8%a3%e0%b8%a1%e0%b8%ab%e0%b8%a5%e0%b8%b1%e0%b8%81%e0%b8%aa%e0%b8%b9%e0%b8%95%e0%b8%a3-%e0%b8%84%e0%b8%a7%e0%b8%b2%e0%b8%a1%e0%b8%9b%e0%b8%a5%e0%b8%ad%e0%b8%94%e0%b8%a0/
END:VEVENT
BEGIN:VEVENT
DTSTART;TZID=Asia/Krasnoyarsk:20240911T080000
DTEND;TZID=Asia/Krasnoyarsk:20240911T080000
DTSTAMP:20260422T040744
CREATED:20240730T015022Z
LAST-MODIFIED:20240730T015022Z
UID:1833-1726041600-1726041600@training.piyamanee.com
SUMMARY:โครงการอบรมฟรีทำดีเพื่อแผ่นดิน ครั้งที่ 58 "เจาะลึกกฎหมายเกี่ยวกับไฟฟ้าสำหรับ จป.ทุกระดับ"
DESCRIPTION:โครงการอบรมฟรีทำดีเพื่อแผ่นดิน ครั้งที่ 58 “เจาะลึกกฎหมายเกี่ยวกับไฟฟ้าสำหรับ จป.ทุกระดับ”\n11 กันยายน 2567 \n\n\n\n\n\n\n\n📣 Piyamanee Training Center ขอเชิญเข้าร่วมอบรมสัมมนา โครงการอบรมฟรี ทำดีเพื่อแผ่นดิน ครั้งที่ 58 “เจาะลึกกฎหมายเกี่ยวกับไฟฟ้าสำหรับ จป.ทุกระดับ”
URL:https://training.piyamanee.com/event/%e0%b9%82%e0%b8%84%e0%b8%a3%e0%b8%87%e0%b8%81%e0%b8%b2%e0%b8%a3%e0%b8%ad%e0%b8%9a%e0%b8%a3%e0%b8%a1%e0%b8%9f%e0%b8%a3%e0%b8%b5%e0%b8%97%e0%b8%b3%e0%b8%94%e0%b8%b5%e0%b9%80%e0%b8%9e%e0%b8%b7-25/
END:VEVENT
BEGIN:VEVENT
DTSTART;TZID=Asia/Krasnoyarsk:20240906T080000
DTEND;TZID=Asia/Krasnoyarsk:20240906T080000
DTSTAMP:20260422T040744
CREATED:20240730T013949Z
LAST-MODIFIED:20240730T013949Z
UID:1827-1725609600-1725609600@training.piyamanee.com
SUMMARY:โครงการอบรมฟรีทำดีเพื่อแผ่นดิน ครั้งที่ 57 "การวิเคราะห์งานเพื่อความปลอดภัยและการประเมินความเสี่ยงในงานอุตสาหกรรม ตามหลักเกณฑ์ของกรมโรงงานอุตสาหกรรม"
DESCRIPTION:โครงการอบรมฟรีทำดีเพื่อแผ่นดิน ครั้งที่ 57 “การวิเคราะห์งานเพื่อความปลอดภัยและการประเมินความเสี่ยงในงานอุตสาหกรรม ตามหลักเกณฑ์ของกรมโรงงานอุตสาหกรรม”\n6 กันยายน 2657 \n\n\n\n\n\n\n\n📣 Piyamanee Training Center ขอเชิญเข้าร่วมอบรมสัมมนา โครงการอบรมฟรี ทำดีเพื่อแผ่นดิน ครั้งที่ 57 “การวิเคราะห์งานเพื่อความปลอดภัยและการประเมินความเสี่ยงในงานอุตสาหกรรม ตามหลักเกณฑ์ของกรมโรงงานอุตสาหกรรม”
URL:https://training.piyamanee.com/event/%e0%b9%82%e0%b8%84%e0%b8%a3%e0%b8%87%e0%b8%81%e0%b8%b2%e0%b8%a3%e0%b8%ad%e0%b8%9a%e0%b8%a3%e0%b8%a1%e0%b8%9f%e0%b8%a3%e0%b8%b5%e0%b8%97%e0%b8%b3%e0%b8%94%e0%b8%b5%e0%b9%80%e0%b8%9e%e0%b8%b7-24/
END:VEVENT
BEGIN:VEVENT
DTSTART;TZID=Asia/Krasnoyarsk:20240819T080000
DTEND;TZID=Asia/Krasnoyarsk:20240819T080000
DTSTAMP:20260422T040744
CREATED:20240708T020827Z
LAST-MODIFIED:20240708T020827Z
UID:1819-1724054400-1724054400@training.piyamanee.com
SUMMARY:โครงการอบรมฟรีทำดีเพื่อแผ่นดิน ครั้งที่ 56 "ความปลอดภัยเกี่ยวกับเครื่องจักร ในงานอุตสาหกรรมและงานก่อสร้าง"
DESCRIPTION:โครงการอบรมฟรีทำดีเพื่อแผ่นดิน ครั้งที่ 56 “ความปลอดภัยเกี่ยวกับเครื่องจักร ในงานอุตสาหกรรมและงานก่อสร้าง”\n19 สิงหาคม 2567 \n\n\n\n\n\n\n\n📣 Piyamanee Training Center ขอเชิญเข้าร่วมอบรมสัมมนา โครงการอบรมฟรี ทำดีเพื่อแผ่นดิน ครั้งที่ 56 “ความปลอดภัยเกี่ยวกับเครื่องจักร ในงานอุตสาหกรรมและงานก่อสร้าง”
URL:https://training.piyamanee.com/event/%e0%b9%82%e0%b8%84%e0%b8%a3%e0%b8%87%e0%b8%81%e0%b8%b2%e0%b8%a3%e0%b8%ad%e0%b8%9a%e0%b8%a3%e0%b8%a1%e0%b8%9f%e0%b8%a3%e0%b8%b5%e0%b8%97%e0%b8%b3%e0%b8%94%e0%b8%b5%e0%b9%80%e0%b8%9e%e0%b8%b7-23/
END:VEVENT
BEGIN:VEVENT
DTSTART;TZID=Asia/Krasnoyarsk:20240726T080000
DTEND;TZID=Asia/Krasnoyarsk:20240726T080000
DTSTAMP:20260422T040744
CREATED:20240627T040650Z
LAST-MODIFIED:20240627T040650Z
UID:1811-1721980800-1721980800@training.piyamanee.com
SUMMARY:โครงการอบรมฟรีทำดีเพื่อแผ่นดิน ครั้งที่ 55 "การตอบโต้ สารเคมี ไวไฟ"
DESCRIPTION:โครงการอบรมฟรีทำดีเพื่อแผ่นดิน ครั้งที่ 55 “การตอบโต้ สารเคมี ไวไฟ”\n26 กรกฎาคม 2567 \n\n\n\n\n\n\n\n📣 Piyamanee Training Center ขอเชิญเข้าร่วมอบรมสัมมนา โครงการอบรมฟรี ทำดีเพื่อแผ่นดิน ครั้งที่ 55 “การตอบโต้ สารเคมี ไวไฟ”
URL:https://training.piyamanee.com/event/%e0%b9%82%e0%b8%84%e0%b8%a3%e0%b8%87%e0%b8%81%e0%b8%b2%e0%b8%a3%e0%b8%ad%e0%b8%9a%e0%b8%a3%e0%b8%a1%e0%b8%9f%e0%b8%a3%e0%b8%b5%e0%b8%97%e0%b8%b3%e0%b8%94%e0%b8%b5%e0%b9%80%e0%b8%9e%e0%b8%b7-22/
END:VEVENT
BEGIN:VEVENT
DTSTART;TZID=Asia/Krasnoyarsk:20240624T080000
DTEND;TZID=Asia/Krasnoyarsk:20240624T080000
DTSTAMP:20260422T040744
CREATED:20240528T011708Z
LAST-MODIFIED:20240528T011708Z
UID:1799-1719216000-1719216000@training.piyamanee.com
SUMMARY:โครงการอบรมฟรีทำดีเพื่อแผ่นดิน ครั้งที่ 54 "ความปลอดภัยในการทำงานเชื่อม\, ตัด\, เจียร"
DESCRIPTION:โครงการอบรมฟรีทำดีเพื่อแผ่นดิน ครั้งที่ 54 “ความปลอดภัยในการทำงานเชื่อม\, ตัด\, เจียร”\n24 มิถุนายน 2567 \n\n\n\n\n\n\n\n📣 Piyamanee Training Center ขอเชิญเข้าร่วมอบรมสัมมนา โครงการอบรมฟรี ทำดีเพื่อแผ่นดิน ครั้งที่ 54 “ความปลอดภัยในการทำงานเชื่อม\, ตัด\, เจียร”
URL:https://training.piyamanee.com/event/%e0%b9%82%e0%b8%84%e0%b8%a3%e0%b8%87%e0%b8%81%e0%b8%b2%e0%b8%a3%e0%b8%ad%e0%b8%9a%e0%b8%a3%e0%b8%a1%e0%b8%9f%e0%b8%a3%e0%b8%b5%e0%b8%97%e0%b8%b3%e0%b8%94%e0%b8%b5%e0%b9%80%e0%b8%9e%e0%b8%b7-21/
END:VEVENT
BEGIN:VEVENT
DTSTART;TZID=Asia/Krasnoyarsk:20240624T080000
DTEND;TZID=Asia/Krasnoyarsk:20240624T080000
DTSTAMP:20260422T040744
CREATED:20240528T011228Z
LAST-MODIFIED:20240528T011246Z
UID:1791-1719216000-1719216000@training.piyamanee.com
SUMMARY:อบรมออนไลน์ ครั้งที่ 3 "GHP และ HACCP หลักการทั่วไปด้านสุขอนามัยอาหาร ฉบับ 6.2022 - ZOOM"
DESCRIPTION:อบรมออนไลน์ ครั้งที่ 3 “GHP และ HACCP หลักการทั่วไปด้านสุขอนามัยอาหาร ฉบับ 6.2022 – ZOOM”\n24 มิถุนายน 2567 \n\n\n\n\n\n\n\n📣 Piyamanee Training Center ขอเชิญเข้าร่วมอบรมออนไลน์ ครั้งที่ 2 “GHP และ HACCP หลักการทั่วไปด้านสุขอนามัยอาหาร ฉบับ 6.2022 – ZOOM”
URL:https://training.piyamanee.com/event/%e0%b8%ad%e0%b8%9a%e0%b8%a3%e0%b8%a1%e0%b8%ad%e0%b8%ad%e0%b8%99%e0%b9%84%e0%b8%a5%e0%b8%99%e0%b9%8c-%e0%b8%84%e0%b8%a3%e0%b8%b1%e0%b9%89%e0%b8%87%e0%b8%97%e0%b8%b5%e0%b9%88-3-ghp-%e0%b9%81%e0%b8%a5/
END:VEVENT
BEGIN:VEVENT
DTSTART;TZID=Asia/Krasnoyarsk:20240524T080000
DTEND;TZID=Asia/Krasnoyarsk:20240524T163000
DTSTAMP:20260422T040744
CREATED:20240426T062638Z
LAST-MODIFIED:20240426T062638Z
UID:1777-1716537600-1716568200@training.piyamanee.com
SUMMARY:ISO 9001 : 2015 INTERNAL AUDIT "การตรวจติดตามคุณภาพภายใน"
DESCRIPTION:ISO 9001 : 2015 INTERNAL AUDIT            “การตรวจติดตามคุณภาพภายใน”\n24 พฤษภาคม 2567 \n\n\n\n\n\n\n\n📣 Piyamanee Training Center ขอเชิญเข้าร่วมอบรมหลักสูตร “9001 : 2015 INTERNAL AUDIT            การตรวจติดตามคุณภาพภายใน”
URL:https://training.piyamanee.com/event/iso-9001-2015-internal-audit-%e0%b8%81%e0%b8%b2%e0%b8%a3%e0%b8%95%e0%b8%a3%e0%b8%a7%e0%b8%88%e0%b8%95%e0%b8%b4%e0%b8%94%e0%b8%95%e0%b8%b2%e0%b8%a1%e0%b8%84%e0%b8%b8%e0%b8%93%e0%b8%a0%e0%b8%b2/
END:VEVENT
BEGIN:VEVENT
DTSTART;TZID=Asia/Krasnoyarsk:20240424T080000
DTEND;TZID=Asia/Krasnoyarsk:20240424T163000
DTSTAMP:20260422T040744
CREATED:20240312T061245Z
LAST-MODIFIED:20240312T061245Z
UID:1744-1713945600-1713976200@training.piyamanee.com
SUMMARY:โครงการอบรมฟรีทำดีเพื่อแผ่นดิน ครั้งที่ 53 "Requirements ISO 9001:2015"
DESCRIPTION:โครงการอบรมฟรีทำดีเพื่อแผ่นดิน ครั้งที่ 53 “Requirements ISO 9001 : 2015”\n24 เมษายน 2567 \n\n\n\n\n\n\n\n📣 Piyamanee Training Center ขอเชิญเข้าร่วมอบรมสัมมนา โครงการอบรมฟรี ทำดีเพื่อแผ่นดิน ครั้งที่ 53 “Requirements ISO 9001:2015”
URL:https://training.piyamanee.com/event/%e0%b9%82%e0%b8%84%e0%b8%a3%e0%b8%87%e0%b8%81%e0%b8%b2%e0%b8%a3%e0%b8%ad%e0%b8%9a%e0%b8%a3%e0%b8%a1%e0%b8%9f%e0%b8%a3%e0%b8%b5%e0%b8%97%e0%b8%b3%e0%b8%94%e0%b8%b5%e0%b9%80%e0%b8%9e%e0%b8%b7-20/
END:VEVENT
BEGIN:VEVENT
DTSTART;TZID=Asia/Krasnoyarsk:20240423T080000
DTEND;TZID=Asia/Krasnoyarsk:20240423T163000
DTSTAMP:20260422T040744
CREATED:20240327T014458Z
LAST-MODIFIED:20240327T014458Z
UID:1754-1713859200-1713889800@training.piyamanee.com
SUMMARY:อบรมออนไลน์ ครั้งที่ 2 "ระบบมาตรฐานการจัดการสิ่งแวดล้อม ISO 14001 : 2015 - ZOOM"
DESCRIPTION:อบรมออนไลน์ ครั้งที่ 2 “ระบบมาตรฐานการจัดการสิ่งแวดล้อม ISO 14001 : 2015 – ZOOM”\n23 เมษายน 2567 \n\n\n\n\n\n\n\n📣 Piyamanee Training Center ขอเชิญเข้าร่วมอบรมออนไลน์ ครั้งที่ 2 “ระบบมาตรฐานการจัดการสิ่งแวดล้อม ISO 14001 : 2015 – ZOOM”
URL:https://training.piyamanee.com/event/%e0%b8%ad%e0%b8%9a%e0%b8%a3%e0%b8%a1%e0%b8%ad%e0%b8%ad%e0%b8%99%e0%b9%84%e0%b8%a5%e0%b8%99%e0%b9%8c-%e0%b8%84%e0%b8%a3%e0%b8%b1%e0%b9%89%e0%b8%87%e0%b8%97%e0%b8%b5%e0%b9%88-2-%e0%b8%a3%e0%b8%b0/
END:VEVENT
BEGIN:VEVENT
DTSTART;TZID=Asia/Krasnoyarsk:20240401T080000
DTEND;TZID=Asia/Krasnoyarsk:20240401T163000
DTSTAMP:20260422T040744
CREATED:20240306T012745Z
LAST-MODIFIED:20240306T012745Z
UID:1732-1711958400-1711989000@training.piyamanee.com
SUMMARY:อบรมออนไลน์ ครั้งที่ 1 "ข้อกำหนดและการประยุกต์ใช้ ระบบการจัดการ อาชีวอนามัยและความปลอดภัย ISO 45001 : 2018 - ZOOM"
DESCRIPTION:อบรมออนไลน์ ครั้งที่ 1 “ข้อกำหนดและการประยุกต์ใช้ ระบบการจัดการ อาชีวอนามัยและความปลอดภัย ISO 45001 : 2018 – ZOOM”\n1 เมษายน 2567 \n\n\n\n\n\n\n\n📣 Piyamanee Training Center ขอเชิญเข้าร่วมอบรมออนไลน์ ครั้งที่ 1 “ข้อกำหนดและการประยุกต์ใช้ ระบบการจัดการ อาชีวอนามัยและความปลอดภัย ISO 45001 : 2018 – ZOOM”
URL:https://training.piyamanee.com/event/%e0%b8%ad%e0%b8%9a%e0%b8%a3%e0%b8%a1%e0%b8%ad%e0%b8%ad%e0%b8%99%e0%b9%84%e0%b8%a5%e0%b8%99%e0%b9%8c-%e0%b8%84%e0%b8%a3%e0%b8%b1%e0%b9%89%e0%b8%87%e0%b8%97%e0%b8%b5%e0%b9%88-1-%e0%b8%82%e0%b9%89/
END:VEVENT
BEGIN:VEVENT
DTSTART;TZID=Asia/Krasnoyarsk:20240322T080000
DTEND;TZID=Asia/Krasnoyarsk:20240322T163000
DTSTAMP:20260422T040744
CREATED:20240221T020358Z
LAST-MODIFIED:20240221T020358Z
UID:1727-1711094400-1711125000@training.piyamanee.com
SUMMARY:โครงการอบรมฟรีทำดีเพื่อแผ่นดินครั้งที่ 52 "จป.วิชาชีพ ต้องดำเนินการอย่างไรตามกฏหมายความปลอดภัยฯ ปี ๒๕๖๕"
DESCRIPTION:โครงการอบรมฟรีทำดีเพื่อแผ่นดินครั้งที่ 52 “จป.วิชาชีพ ต้องดำเนินการอย่างไรตามกฏหมายความปลอดภัยฯ ปี ๒๕๖๕”\n22 มีนาคม 2567 \n\n\n\n\n\n\n\n📣 Piyamanee Training Center ขอเชิญเข้าร่วมอบรมสัมมนา โครงการอบรมฟรี ทำดีเพื่อแผ่นดิน ครั้งที่ 52 “จป.วิชาชีพ ต้องดำเนินการอย่างไรตามกฏหมายความปลอดภัยฯ ปี ๒๕๖๕”
URL:https://training.piyamanee.com/event/%e0%b9%82%e0%b8%84%e0%b8%a3%e0%b8%87%e0%b8%81%e0%b8%b2%e0%b8%a3%e0%b8%ad%e0%b8%9a%e0%b8%a3%e0%b8%a1%e0%b8%9f%e0%b8%a3%e0%b8%b5%e0%b8%97%e0%b8%b3%e0%b8%94%e0%b8%b5%e0%b9%80%e0%b8%9e%e0%b8%b7-19/
END:VEVENT
BEGIN:VEVENT
DTSTART;TZID=Asia/Krasnoyarsk:20240315T080000
DTEND;TZID=Asia/Krasnoyarsk:20240315T163000
DTSTAMP:20260422T040744
CREATED:20240209T075847Z
LAST-MODIFIED:20240212T100009Z
UID:1713-1710489600-1710520200@training.piyamanee.com
SUMMARY:โครงการอบรมฟรีทำดีเพื่อแผ่นดินครั้งที่ 51 "ความปลอดภัย กับกระบวนการยุติธรรม"
DESCRIPTION:โครงการอบรมฟรีทำดีเพื่อแผ่นดินครั้งที่ 51 “ความปลอดภัย กับกระบวนการยุติธรรม”\n15 มีนาคม 2567 \n\n\n\n\n\n\n\n📣 Piyamanee Training Center ขอเชิญเข้าร่วมอบรมสัมมนา โครงการอบรมฟรี ทำดีเพื่อแผ่นดิน ครั้งที่ 51 “ความปลอดภัย กับกระบวนการยุติธรรม” \n\n\n\n\n\n\n\n\nสนใจสมัครลงทะเบียนเข้าอบรม คลิก
URL:https://training.piyamanee.com/event/%e0%b9%82%e0%b8%84%e0%b8%a3%e0%b8%87%e0%b8%81%e0%b8%b2%e0%b8%a3%e0%b8%ad%e0%b8%9a%e0%b8%a3%e0%b8%a1%e0%b8%9f%e0%b8%a3%e0%b8%b5%e0%b8%97%e0%b8%b3%e0%b8%94%e0%b8%b5%e0%b9%80%e0%b8%9e%e0%b8%b7-18/
END:VEVENT
BEGIN:VEVENT
DTSTART;TZID=Asia/Krasnoyarsk:20240301T080000
DTEND;TZID=Asia/Krasnoyarsk:20240301T163000
DTSTAMP:20260422T040744
CREATED:20240131T035019Z
LAST-MODIFIED:20240131T033529Z
UID:1688-1709280000-1709310600@training.piyamanee.com
SUMMARY:โครงการอบรมฟรีทำดีเพื่อแผ่นดินครั้งที่ 50 "การสร้างจิตสำนึกความปลอดภัยด้วยกิจกรรมการหยั่งรู้อันตราย Kiken Yoshi Training : KYT"
DESCRIPTION:โครงการอบรมฟรีทำดีเพื่อแผ่นดินครั้งที่ 50 “การสร้างจิตสำนึกความปลอดภัยด้วยกิจกรรมการหยั่งรู้อันตราย Kiken Yoshi Training : KYT”\n1 มีนาคม 2567 \n\n\n\n\n\n\n\n📣 Piyamanee Training Center ขอเชิญเข้าร่วมอบรมสัมมนา โครงการอบรมฟรี ทำดีเพื่อแผ่นดิน ครั้งที่ 50 “การสร้างจิตสำนึกความปลอดภัยด้วยกิจกรรมการหยั่งรู้อันตราย Kiken Yoshi Training : KYT”
URL:https://training.piyamanee.com/event/%e0%b9%82%e0%b8%84%e0%b8%a3%e0%b8%87%e0%b8%81%e0%b8%b2%e0%b8%a3%e0%b8%ad%e0%b8%9a%e0%b8%a3%e0%b8%a1%e0%b8%9f%e0%b8%a3%e0%b8%b5%e0%b8%97%e0%b8%b3%e0%b8%94%e0%b8%b5%e0%b9%80%e0%b8%9e%e0%b8%b7-17/
END:VEVENT
BEGIN:VEVENT
DTSTART;TZID=Asia/Krasnoyarsk:20240223T080000
DTEND;TZID=Asia/Krasnoyarsk:20240223T163000
DTSTAMP:20260422T040744
CREATED:20240110T044759Z
LAST-MODIFIED:20240110T044759Z
UID:1671-1708675200-1708705800@training.piyamanee.com
SUMMARY:โครงการอบรมฟรีทำดีเพื่อแผ่นดินครั้งที่ 49 "การบริหารจัดการและการดำเนินการด้านความปลอดภัย อาชีวอนามัยและสภาพแวดล้อมในการทำงาน"
DESCRIPTION:โครงการอบรมฟรีทำดีเพื่อแผ่นดินครั้งที่ 49 “การบริหารจัดการและการดำเนินการด้านความปลอดภัย อาชีวอนามัยและสภาพแวดล้อมในการทำงาน”\n23 กุมภาพันธ์ 2567 \n\n\n\n\n\n\n\n📣 Piyamanee Training Center ขอเชิญเข้าร่วมอบรมสัมมนา โครงการอบรมฟรี ทำดีเพื่อแผ่นดิน ครั้งที่ 49 “การบริหารจัดการและการดำเนินการด้านความปลอดภัย อาชีวอนามัยและสภาพแวดล้อมในการทำงาน”
URL:https://training.piyamanee.com/event/%e0%b9%82%e0%b8%84%e0%b8%a3%e0%b8%87%e0%b8%81%e0%b8%b2%e0%b8%a3%e0%b8%ad%e0%b8%9a%e0%b8%a3%e0%b8%a1%e0%b8%9f%e0%b8%a3%e0%b8%b5%e0%b8%97%e0%b8%b3%e0%b8%94%e0%b8%b5%e0%b9%80%e0%b8%9e%e0%b8%b7-16/
END:VEVENT
BEGIN:VEVENT
DTSTART;TZID=Asia/Krasnoyarsk:20240216T080000
DTEND;TZID=Asia/Krasnoyarsk:20240216T163000
DTSTAMP:20260422T040744
CREATED:20240110T044204Z
LAST-MODIFIED:20240213T022906Z
UID:1665-1708070400-1708101000@training.piyamanee.com
SUMMARY:โครงการอบรมฟรีทำดีเพื่อแผ่นดินครั้งที่ 48 "การจัดทำคู่มือความปลอดภัย อาชีวอนามัย และสภาพแวดล้อมในการทำงาน"
DESCRIPTION:โครงการอบรมฟรีทำดีเพื่อแผ่นดินครั้งที่ 48 “การจัดทำคู่มือความปลอดภัย อาชีวอนามัย และสภาพแวดล้อมในการทำงาน”\n16 กุมภาพันธ์ 2567 \n\n\n\n\n\n\n\n📣 Piyamanee Training Center ขอเชิญเข้าร่วมอบรมสัมมนา โครงการอบรมฟรี ทำดีเพื่อแผ่นดิน ครั้งที่ 48 “การจัดทำคู่มือความปลอดภัย อาชีวอนามัย และสภาพแวดล้อมในการทำงาน” \n\n\n\n\n\n\n\n\nสนใจสมัครลงทะเบียนเข้าอบรม คลิก
URL:https://training.piyamanee.com/event/%e0%b9%82%e0%b8%84%e0%b8%a3%e0%b8%87%e0%b8%81%e0%b8%b2%e0%b8%a3%e0%b8%ad%e0%b8%9a%e0%b8%a3%e0%b8%a1%e0%b8%9f%e0%b8%a3%e0%b8%b5%e0%b8%97%e0%b8%b3%e0%b8%94%e0%b8%b5%e0%b9%80%e0%b8%9e%e0%b8%b7-15/
END:VEVENT
BEGIN:VEVENT
DTSTART;TZID=Asia/Krasnoyarsk:20240126T080000
DTEND;TZID=Asia/Krasnoyarsk:20240126T163000
DTSTAMP:20260422T040744
CREATED:20231220T084916Z
LAST-MODIFIED:20231220T084925Z
UID:1644-1706256000-1706286600@training.piyamanee.com
SUMMARY:โครงการอบรมฟรีทำดีเพื่อแผ่นดินครั้งที่ 47 "การจัดการอาชีวอนามัยและความปลอดภัย"
DESCRIPTION:โครงการอบรมฟรีทำดีเพื่อแผ่นดินครั้งที่ 47 “การจัดการอาชีวอนามัยและความปลอดภัย”\n26 มกราคม 2567 \n\n\n\n\n\n\n\n📣 Piyamanee Training Center ขอเชิญเข้าร่วมอบรมสัมมนา โครงการอบรมฟรี ทำดีเพื่อแผ่นดิน ครั้งที่ 47 “การจัดการอาชีวอนามัยและความปลอดภัย”
URL:https://training.piyamanee.com/event/%e0%b9%82%e0%b8%84%e0%b8%a3%e0%b8%87%e0%b8%81%e0%b8%b2%e0%b8%a3%e0%b8%ad%e0%b8%9a%e0%b8%a3%e0%b8%a1%e0%b8%9f%e0%b8%a3%e0%b8%b5%e0%b8%97%e0%b8%b3%e0%b8%94%e0%b8%b5%e0%b9%80%e0%b8%9e%e0%b8%b7-14/
END:VEVENT
BEGIN:VEVENT
DTSTART;TZID=Asia/Krasnoyarsk:20240122T080000
DTEND;TZID=Asia/Krasnoyarsk:20240122T163000
DTSTAMP:20260422T040744
CREATED:20231220T084032Z
LAST-MODIFIED:20231220T084032Z
UID:1642-1705910400-1705941000@training.piyamanee.com
SUMMARY:โครงการอบรมฟรีทำดีเพื่อแผ่นดินครั้งที่ 46 "การจัดทำแผนงานยกตามกฎหมาย"
DESCRIPTION:โครงการอบรมฟรีทำดีเพื่อแผ่นดินครั้งที่ 46 “การจัดทำแผนงานยกตามกฎหมาย”\n22 มกราคม 2567 \n\n\n\n\n\n\n\n📣 Piyamanee Training Center ขอเชิญเข้าร่วมอบรมสัมมนา โครงการอบรมฟรี ทำดีเพื่อแผ่นดิน ครั้งที่ 46 “การจัดทำแผนงานยกตามกฎหมาย”
URL:https://training.piyamanee.com/event/%e0%b9%82%e0%b8%84%e0%b8%a3%e0%b8%87%e0%b8%81%e0%b8%b2%e0%b8%a3%e0%b8%ad%e0%b8%9a%e0%b8%a3%e0%b8%a1%e0%b8%9f%e0%b8%a3%e0%b8%b5%e0%b8%97%e0%b8%b3%e0%b8%94%e0%b8%b5%e0%b9%80%e0%b8%9e%e0%b8%b7-13/
END:VEVENT
BEGIN:VEVENT
DTSTART;TZID=Asia/Krasnoyarsk:20231215T080000
DTEND;TZID=Asia/Krasnoyarsk:20231215T163000
DTSTAMP:20260422T040744
CREATED:20231201T050013Z
LAST-MODIFIED:20231116T073348Z
UID:1613-1702627200-1702657800@training.piyamanee.com
SUMMARY:โครงการอบรมฟรีทำดีเพื่อแผ่นดินครั้งที่ 45 "Occupational Disease by Department of Labour Protection and Welfare" โรคจากการประกอบอาชีพและสิ่งแวดล้อมในสถานประกอบการ ฉบับกองความปลอดภัยกรมสวัสดิการและคุ้มครองแรงงาน
DESCRIPTION:โครงการอบรมฟรีทำดีเพื่อแผ่นดินครั้งที่ 45 “Occupational Disease by Department of Labour Protection and Welfare” โรคจากการประกอบอาชีพและสิ่งแวดล้อมในสถานประกอบการ ฉบับกองความปลอดภัยกรมสวัสดิการและคุ้มครองแรงงาน\n15 ธันวาคม 2566 \n\n\n\n\n\n\n\n📣 Piyamanee Training Center ขอเชิญเข้าร่วมอบรมสัมมนา โครงการอบรมฟรี ทำดีเพื่อแผ่นดิน ครั้งที่ 45 “Occupational Disease by Department of Labour Protection and Welfare” โรคจากการประกอบอาชีพและสิ่งแวดล้อมในสถานประกอบการ ฉบับกองความปลอดภัยกรมสวัสดิการและคุ้มครองแรงงาน
URL:https://training.piyamanee.com/event/%e0%b9%82%e0%b8%84%e0%b8%a3%e0%b8%87%e0%b8%81%e0%b8%b2%e0%b8%a3%e0%b8%ad%e0%b8%9a%e0%b8%a3%e0%b8%a1%e0%b8%9f%e0%b8%a3%e0%b8%b5%e0%b8%97%e0%b8%b3%e0%b8%94%e0%b8%b5%e0%b9%80%e0%b8%9e%e0%b8%b7-11/
END:VEVENT
END:VCALENDAR