BEGIN:VCALENDAR
VERSION:2.0
PRODID:-// - ECPv6.7.1//NONSGML v1.0//EN
CALSCALE:GREGORIAN
METHOD:PUBLISH
X-ORIGINAL-URL:https://training.piyamanee.com
X-WR-CALDESC:Events for 
REFRESH-INTERVAL;VALUE=DURATION:PT1H
X-Robots-Tag:noindex
X-PUBLISHED-TTL:PT1H
BEGIN:VTIMEZONE
TZID:Asia/Krasnoyarsk
BEGIN:STANDARD
TZOFFSETFROM:+0700
TZOFFSETTO:+0700
TZNAME:+07
DTSTART:20230101T000000
END:STANDARD
END:VTIMEZONE
BEGIN:VEVENT
DTSTART;TZID=Asia/Krasnoyarsk:20230711T080000
DTEND;TZID=Asia/Krasnoyarsk:20230711T163000
DTSTAMP:20260420T045240
CREATED:20230629T051317Z
LAST-MODIFIED:20230816T032909Z
UID:1211-1689062400-1689093000@training.piyamanee.com
SUMMARY:โครงการอบรมฟรี ทำดีเพื่อแผ่นดิน ครั้งที่ 33  หลักสูตร "PROCESS SAFETY MANAGEMENT (PSM) " Part II
DESCRIPTION:โครงการอบรมฟรี ทำดีเพื่อแผ่นดิน ครั้งที่ 33  หลักสูตร “PROCESS SAFETY MANAGEMENT (PSM) ” Part II\n11 กรกฏาคม 2566 \n\n\n\n📣 Piyamanee Training Center ขอเชิญเข้าร่วมอบรมสัมมนา โครงการอบรมฟรีทำดีเพื่อแผ่นดินครั้งที่ 33  หลักสูตร “PROCESS SAFETY MANAGEMENT (PSM) ” Part II \n\n\n\n\n\n\n\n\n\n\n\n\nสมัครอบรม คลิ๊ก!!
URL:https://training.piyamanee.com/event/%e0%b9%82%e0%b8%84%e0%b8%a3%e0%b8%87%e0%b8%81%e0%b8%b2%e0%b8%a3%e0%b8%ad%e0%b8%9a%e0%b8%a3%e0%b8%a1%e0%b8%9f%e0%b8%a3%e0%b8%b5-%e0%b8%97%e0%b8%b3%e0%b8%94%e0%b8%b5%e0%b9%80%e0%b8%9e%e0%b8%b7-10/
CATEGORIES:Comming Soon
END:VEVENT
BEGIN:VEVENT
DTSTART;TZID=Asia/Krasnoyarsk:20230630T080000
DTEND;TZID=Asia/Krasnoyarsk:20230630T163000
DTSTAMP:20260420T045240
CREATED:20230606T040628Z
LAST-MODIFIED:20230606T040754Z
UID:1129-1688112000-1688142600@training.piyamanee.com
SUMMARY:โครงการอบรมฟรี ทำดีเพื่อแผ่นดินครั้งที่ 31 หลักสูตรไฟฟ้า การเขียนขั้นตอนการตัดแยกแหล่งพลังงานอันตราย (LOTO Procedure)
DESCRIPTION:โครงการอบรมฟรี ทำดีเพื่อแผ่นดินครั้งที่ 31 หลักสูตรไฟฟ้า การเขียนขั้นตอนการตัดแยกแหล่งพลังงานอันตราย (LOTO Procedure)\n30 มิถุนายน 2566 \n\n\n\n\n\n\n\n📣 Piyamanee Training Center ขอเชิญเข้าร่วมอบรมสัมมนา โครงการอบรมฟรีทำดีเพื่อแผ่นดินครั้งที่ 31 หลักสูตร “EMERGENCY PREPARENESS AND RESPONSE” (การเตรียมความพร้อมตอบสนองต่อภาวะฉุกเฉิน)  \n\n\n\nวันที่ 30  มิถุนายน 2566 จึงขอเรียนเชิญผู้ที่สนใจสมัครเข้าร่วมอบรม \n\n\n\n\n\n\n\n\nสมัคร อบรมคลิ๊ก!!\n\n\n\n\n \n\n\n\nตารางอบรมเดือน มิถุนายน
URL:https://training.piyamanee.com/event/%e0%b9%82%e0%b8%84%e0%b8%a3%e0%b8%87%e0%b8%81%e0%b8%b2%e0%b8%a3%e0%b8%ad%e0%b8%9a%e0%b8%a3%e0%b8%a1%e0%b8%9f%e0%b8%a3%e0%b8%b5-%e0%b8%97%e0%b8%b3%e0%b8%94%e0%b8%b5%e0%b9%80%e0%b8%9e%e0%b8%b7-7/
CATEGORIES:Comming Soon
END:VEVENT
BEGIN:VEVENT
DTSTART;TZID=Asia/Krasnoyarsk:20230623T080000
DTEND;TZID=Asia/Krasnoyarsk:20230623T163000
DTSTAMP:20260420T045240
CREATED:20230606T041027Z
LAST-MODIFIED:20230606T041105Z
UID:1132-1687507200-1687537800@training.piyamanee.com
SUMMARY:โครงการอบรมฟรี ทำดีเพื่อแผ่นดินครั้งที่ 30 อบรม ความปลอดในการทำงานกับสารเคมี Part 6 ต่อการเตรียมความพร้อมตอบสนองต่อภาวะฉุกเฉิน
DESCRIPTION:โครงการอบรมฟรี ทำดีเพื่อแผ่นดินครั้งที่ 30 อบรม ความปลอดภัยในการทำงานกับสารเคมี Part 6 (ต่อ) การเตรียมความพร้อมตอบสนองต่อภาวะฉุกเฉิน\n23 มิถุนายน 2566 \n\n\n\n\n\n\n\n📣 Piyamanee Training Center ขอเชิญเข้าร่วมอบรมสัมมนา โครงการอบรมฟรีทำดีเพื่อแผ่นดินครั้งที่ 30 หลักสูตร “EMERGENCY PREPARENESS AND RESPONSE” (การเตรียมความพร้อมตอบสนองต่อภาวะฉุกเฉิน)  \n\n\n\nวันที่ 23 มิถุนายน 2566 จึงขอเรียนเชิญผู้ที่สนใจสมัครเข้าร่วมอบรม \n\n\n\n\n\n\n\n \n\n\n\nตารางอบรม เดือนมิถุนายน
URL:https://training.piyamanee.com/event/%e0%b9%82%e0%b8%84%e0%b8%a3%e0%b8%87%e0%b8%81%e0%b8%b2%e0%b8%a3%e0%b8%ad%e0%b8%9a%e0%b8%a3%e0%b8%a1%e0%b8%9f%e0%b8%a3%e0%b8%b5-%e0%b8%97%e0%b8%b3%e0%b8%94%e0%b8%b5%e0%b9%80%e0%b8%9e%e0%b8%b7-8/
CATEGORIES:Comming Soon
END:VEVENT
BEGIN:VEVENT
DTSTART;TZID=Asia/Krasnoyarsk:20230616T080000
DTEND;TZID=Asia/Krasnoyarsk:20230616T163000
DTSTAMP:20260420T045240
CREATED:20230603T081142Z
LAST-MODIFIED:20230606T042015Z
UID:1106-1686902400-1686933000@training.piyamanee.com
SUMMARY:หลักสูตร การพัฒนาภาวะผู้นํา (Leadership Development) (มีค่าใช้จ่าย)
DESCRIPTION:หลักสูตร การพัฒนาภาวะผู้นํา (Leadership Development)\n16 มิถุนายน 2566 \n\n\n\n\n\n\n\n\nคูณจะทำให้คนอื่นมองคุณในฐานะผู้นำและคนสำคัญของทีมได้อย่างไร? \n\n\n\n\n\nคุณจะทำอย่างไรให้ตัวเองโดดเด่นและประสบความสำเร็จในอาชีพได้มากกว่าคนอื่น ?\n\n\n\n\nหลักการและเหตุผล\n\n\n\nการมีผู้นำที่ดี คืออีกส่วนสำคัญในการเดินสู่ความสำเร็จ‍ไม่ว่าองค์กรใดก็ตามทุกส่วน ทุกตำแหน่งล้วนมีความสำคัญตามหน้าที่ของตนเอง แต่เหนือสิ่งอื่นใดหากพบเจอกับหัวหน้างานที่ดีมีความรู้ทั้งเรื่องการทำงาน ทักษะบริหารจัดการลูกน้องและสิ่งต่าง ๆ ตามหน้าที่ความรับผิดชอบของตนเองอย่างมีคุณภาพ ย่อมเป็นตัวช่วยสำคัญที่จะพาองค์กรก้าวไปสู่ความสำเร็จเป็น Smart Manager ที่ผู้บริหารก็อยากได้ตัวลูกน้องก็หลงรัก \n\n\n\n       “ภาวะผู้นำ” องค์กรจะประสบความสำเร็จหรือล้มเหลวในการดำเนินงานได้นั้น ปัจจัยสำคัญที่สุด คือ ความร่วมมือจากทุกส่วนงาน เพื่อให้งานสำเร็จตามเป้าหมายขององค์กร การทำงานเป็นทีม (Teamwork) ได้นั้น ผู้นำต้องใช้ทักษะและกระบวนการในการสื่อสาร การถ่ายทอดข้อมูล แนวคิด เพื่อสร้างความเข้าใจอันดีระหว่างกัน เกิดการประสานงานงานที่ดี ตลอดจนสามารถสร้างบรรยากาศที่ดีในการทำงานร่วมกันและผู้นำสามารถนำทีมให้การทำงานเกิดประสิทธิผลในการทำงาน สามารถเพิ่มขีดความสามารถในการแข่งขันถือเป็นแนวปฏิบัติเพื่อสู่ความสำเร็จขององค์กรได้อย่างยั่งยืน \n\n\n\nวัตถุประสงค์     1)   ผู้เข้ารับการอบรมมีความเข้าใจในการแสดงภาวะผู้นําได้เหมาะสมกับสถานการณ์ต่างๆ                                                                 เพื่อนําทีมไปสู่เป้าหมายที่ต้องการร่วมกันได้     2)  ผู้เข้ารับการอบรมสามารถค้นหาจุดแข็งจุดเด่นของตนเองและทีมงานเพื่อพัฒนาต่อยอดได้ง่ายขึ้น พร้อมเรียนรู้หลักการสร้าง แรงบันดาลใจให้ทีมงานช่วยเติมเต็ม เสริมจุดแข็ง เพิ่มคนดีคนเก่งและมีความสุขในองค์กรมากขึ้น    3)   ผู้เข้ารับการอบรมสามารถบริหารงาน สร้างและพฒนาทีมงานของตนเอง โดยการลดปัญหาความขัดแย้งด้านการบริหารงานระหว่างผู้จัดการกับทีมงานได้\n\n\n\n \n\n\n\n\n\n\n\nรูปแบบการอบรมสัมมนา \n\n\n\n– บรรยาย– Workshop– Case Study– ฝึกปฏิบัติวิทยากรให้คําแนะนํารายบคคล \n\n\n\n\nหลักสูตรเหมาะสำหรับ\n\n\n\n\n\nหัวหน้างาน\n\n\n\nผู้บริหารงาน\n\n\n\n\n“”””””””””””””””””””””””””””””””””””””””””””””””””””””””””””””””””””””””””””””””””””””””””””””””””””””””””””””””””””””””””””””””””” \n\n\n\n\n ราคา   2\,500   บาท\n\n\n\n ราคายังไม่รวมภาษีมูลค่าเพิ่ม\n\n\n\n นิติบุคคล สามารถหักภาษี ณ ที่จ่าย 3%
URL:https://training.piyamanee.com/event/%e0%b8%ab%e0%b8%a5%e0%b8%b1%e0%b8%81%e0%b8%aa%e0%b8%b9%e0%b8%95%e0%b8%a3-%e0%b8%81%e0%b8%b2%e0%b8%a3%e0%b8%9e%e0%b8%b1%e0%b8%92%e0%b8%99%e0%b8%b2%e0%b8%a0%e0%b8%b2%e0%b8%a7%e0%b8%b0%e0%b8%9c%e0%b8%b9/
CATEGORIES:Comming Soon
END:VEVENT
BEGIN:VEVENT
DTSTART;TZID=Asia/Krasnoyarsk:20230615T080000
DTEND;TZID=Asia/Krasnoyarsk:20230615T163000
DTSTAMP:20260420T045240
CREATED:20230606T041335Z
LAST-MODIFIED:20230606T041717Z
UID:1136-1686816000-1686846600@training.piyamanee.com
SUMMARY:หลักสูตรตัวแทนฝ่ายบริหาร (MR) ในการดูแลระบบบริหารคุณภาพ ISO 9001:2015 (มีค่าใช้จ่าย)
DESCRIPTION:หลักสูตรตัวแทนฝ่ายบริหาร (MR) ในการดูแลระบบบริหารคุณภาพ ISO 9001:2015\n\n\n\n\nวันที่ 15 มิถุนายน 2566 \n\n\n\nหลักสูตรตัวแทนฝ่ายบริหาร (MR) ในการดูแลระบบบริหารคุณภาพ ISO 9001:2015 \n\n\n\nหลักการและแนวความคิด \n\n\n\nตัวแทนฝ่ายบริหาร (MR) เป็นบุคคลที่มีความสำคัญยิ่งในการขับเคลื่อนและดูแลระบบการบริหาร คุณภาพให้ประสบผลสำเร็จตามเป้าหมาย และสอดคล้องกับข้อกำหนดตามมาตรฐานสากล ตัวแทนฝ่ายบริหาร (MR) จึงต้องเป็นบุคลากรที่มีทั้งความรู้ความสามารถ และทักษะมากพอในหลายๆ ด้านผู้ที่จะเป็นตัวแทนฝ่ายบริหาร (MR) และ/หรือผู้ช่วยตัวแทนฝ่ายบริหาร จึงจำเป็นต้องรู้และดูแล ระบบ ทั้งการเปลี่ยนแปลงเอกสารต่างๆ การตรวจติดตามภายใน สามารถบริหารระบบในการป้องกัน และขจัดปัญหา และอุปสรรคต่างๆ ที่จะเกิดขึ้น เพื่อสามารถตัดสินใจ นำพาองค์กรให้เดินหน้าสู่ความสำเร็จ สามารถขับเคลื่อนระบบบริหารคุณภาพอย่างมีประสิทธิภาพ และเพิ่มประสิทธิผลให้กับองค์กรได้อย่างครบถ้วน \n\n\n\nวัตถุประสงค์ \n\n\n\n\nเพื่อให้ผู้เข้ารับการฝึกอบรมเข้าใจบทบาท และความรับผิดชอบในการเป็นตัวแทนฝ่ายบริหาร (MR)\n\n\n\nเพื่อให้ตัวแทนฝ่ายบริหาร (MR) สามารถขับเคลื่อนระบบการบริหารคุณภาพให้สอดคล้องกับข้อกำหนดตามมาตรฐานสากล\n\n\n\nเพื่อให้ตัวแทนฝ่ายบริหาร (MR) สามารถนำพาองค์กรสู่ความสำเร็จและพัฒนาอย่างต่อเนื่องอย่างแท้จริง\n\n\n\n\nเนื้อหาหลักสูตร (Course Outline) \n\n\n\nบทที่ 1: ตัวแทนฝ่ายบริหาร (MR)❖ ตัวแทนฝ่ายบริหาร (MR) และคุณสมบัติของตัวแทนฝ่ายบริหาร (MR)❖ บทบาท อำนาจหน้าที่ และความรับผิดชอบของตัวแทนฝ่ายบริหาร (MR)บทที่ 2: หน้าที่ของตัวแทนฝ่ายบริหาร (MR)❖ คุณสมบัติและแนวทางการคัดเลือกคณะทำงานระบบบริหารคุณภาพ (ISO Team)❖ การจัดทำนโยบายคุณภาพ (Quality Policy)❖ การกำหนดวัตถุประสงค์และการตั้งเป้าหมาย (Objective & Target)❖ การจัดทำแผนประจำปีตามวัตถุประสงค์และเป้าหมายขององค์กร \n\n\n\nWorkshop 1 : บทบาทหน้าที่ของตัวแทนฝ่ายบริหาร และคณะท างานระบบบริหารคุณภาพ \n\n\n\nบทที่ 3: การจัดทำเอกสารในระบบบริหารคุณภาพ❖ การจัดทำคู่มือบริหารคุณภาพ (Quality Manual)❖ การจัดทำ การทบทวน และการอนุมัติเอกสารในระบบบริหารคุณภาพ (Procedure\, WorkInstruction) \n\n\n\nWorkshop 2 : การจัดทำ การทบทวน และการอนุมัติเอกสารในระบบบริหารคุณภาพ \n\n\n\nบทที่ 4: ตัวแทนฝ่ายบริหาร (MR) กับการตรวจติดตามภายใน (Audit Check lists)❖ การตรวจติดตามภายใน และการจัดรายการตรวจติดตามภายใน (Audit Check lists)❖ การรายงานสิ่งที่ไม่สอดคล้องกับข้อกำหนด (NCR-Nonconformity Report)❖ การปฏิบัติการแก้ไข และป้องกัน (CAR-Corrective Action Request) \n\n\n\nWorkshop 3 : การดำเนินการตรวจติดตามภายใน และการติดตามการปฏิบัติการแก้ไข \n\n\n\nบทที่ 5: ตัวแทนฝ่ายบริหาร (MR) กับการทบทวนการบริหาร Management Review❖ การทบทวนการบริหาร (Management Review)❖ การจัดประชุมการทบทวนการบริหาร (Management Review) และปิดประชุมo ประเด็นในการประชุมการทบทวนการบริหาร (Management Review)o ผลลัพธ์จากการประชุมการทบทวนการบริหาร (Management Review) \n\n\n\nWorkshop 4 : กิจกรรมการพัฒนาและรักษาระบบบริหารคุณภาพอย่างต่อเนื่อง \n\n\n\nบทที่ 6: ตัวแทนฝ่ายบริหาร (MR) กับการรองรับการตรวจสอบจากภายนอก (Certified Body)❖ แนวทางการปฏิบัติรองรับจากการตรวจสอบจากองค์กรภายนอก (Certified Body)❖ การตอบรับรายงานสิ่งที่ไม่สอดคล้องกับข้อกำหนดจากการตรวจสอบจากองค์กรภายนอก❖ เทคนิคการปฏิบัติการแก้ไข และป้องกัน เพื่อป้องกันความเสี่ยงอันก่อให้เกิดค่าใช้จ่ายเพิ่มเติม \n\n\n\nWorkshop 5 : สรุปการเรียนรู้ \n\n\n\n\n ราคา   2\,500   บาท\n\n\n\n ราคายังไม่รวมภาษีมูลค่าเพิ่ม\n\n\n\n นิติบุคคล สามารถหักภาษี ณ ที่จ่าย 3%\n\n\n\n\n\nระยะเวลาการฝึกอบรม (Time)  6  ชั่วโมง เวลา 09.00 – 16.00 น.
URL:https://training.piyamanee.com/event/%e0%b8%ab%e0%b8%a5%e0%b8%b1%e0%b8%81%e0%b8%aa%e0%b8%b9%e0%b8%95%e0%b8%a3%e0%b8%95%e0%b8%b1%e0%b8%a7%e0%b9%81%e0%b8%97%e0%b8%99%e0%b8%9d%e0%b9%88%e0%b8%b2%e0%b8%a2%e0%b8%9a%e0%b8%a3%e0%b8%b4%e0%b8%ab/
CATEGORIES:Comming Soon
END:VEVENT
BEGIN:VEVENT
DTSTART;TZID=Asia/Krasnoyarsk:20230614T080000
DTEND;TZID=Asia/Krasnoyarsk:20230614T170000
DTSTAMP:20260420T045240
CREATED:20230602T094348Z
LAST-MODIFIED:20230602T094802Z
UID:992-1686729600-1686762000@training.piyamanee.com
SUMMARY:โครงการอบรมฟรี ทำดีเพื่อแผ่นดินครั้งที่ 29 ความรู้ ความเข้าใจ  พื้นฐานหลักสูตร IS0 9001 : 2015
DESCRIPTION:โครงการอบรมฟรี ทำดีเพื่อแผ่นดินครั้งที่ 29 ความรู้ ความเข้าใจ  พื้นฐานหลักสูตร IS0 9001 : 2015\nวันที่ 14 มิถุนายน 2566 \n\n\n\n\n\n\n\n\n\n\n\nตารางอบรมเดือน มิถุนายน \n\n\n\n\n\n\n\nสนใจสินค้าอุปกรณ์ PPE
URL:https://training.piyamanee.com/event/%e0%b9%82%e0%b8%84%e0%b8%a3%e0%b8%87%e0%b8%81%e0%b8%b2%e0%b8%a3%e0%b8%ad%e0%b8%9a%e0%b8%a3%e0%b8%a1%e0%b8%9f%e0%b8%a3%e0%b8%b5-%e0%b8%97%e0%b8%b3%e0%b8%94%e0%b8%b5%e0%b9%80%e0%b8%9e%e0%b8%b7-6/
CATEGORIES:Comming Soon
END:VEVENT
BEGIN:VEVENT
DTSTART;TZID=Asia/Krasnoyarsk:20230609T080000
DTEND;TZID=Asia/Krasnoyarsk:20230609T170000
DTSTAMP:20260420T045240
CREATED:20230602T081654Z
LAST-MODIFIED:20230602T094758Z
UID:973-1686297600-1686330000@training.piyamanee.com
SUMMARY:โครงการอบรมฟรีทำดีเพื่อแผ่นดิน ครั้งที่ 28 อบรม "กฎหมายด้านอาชีวอนามัยและความปลอดภัย\, การตรวจวัดสภาพแวดล้อมในการทำงาน และการจัดเตรียมรายงาน
DESCRIPTION:โครงการอบรมฟรีทำดีเพื่อแผ่นดิน ครั้งที่ 28 อบรม “กฎหมายด้านอาชีวอนามัยและความปลอดภัย\, การตรวจวัดสภาพแวดล้อมในการทำงาน และการจัดเตรียมรายงาน“ (ผู้สมัครเต็มจำนวน)\n“Occupational Health And Safety Laws\,work environment measurement and reporting” \n\n\n\n\n\n\n\n \n\n\n\n\n\n\n\nกำหนดการวันอบรม \n\n\n\n\n\n\n\nตารางอบรม เดือน มิถุนายน
URL:https://training.piyamanee.com/event/%e0%b9%82%e0%b8%84%e0%b8%a3%e0%b8%87%e0%b8%81%e0%b8%b2%e0%b8%a3%e0%b8%ad%e0%b8%9a%e0%b8%a3%e0%b8%a1%e0%b8%9f%e0%b8%a3%e0%b8%b5%e0%b8%97%e0%b8%b3%e0%b8%94%e0%b8%b5%e0%b9%80%e0%b8%9e%e0%b8%b7%e0%b9%88-5/
CATEGORIES:Comming Soon
END:VEVENT
END:VCALENDAR