BEGIN:VCALENDAR
VERSION:2.0
PRODID:-// - ECPv6.7.1//NONSGML v1.0//EN
CALSCALE:GREGORIAN
METHOD:PUBLISH
X-ORIGINAL-URL:https://training.piyamanee.com
X-WR-CALDESC:Events for 
REFRESH-INTERVAL;VALUE=DURATION:PT1H
X-Robots-Tag:noindex
X-PUBLISHED-TTL:PT1H
BEGIN:VTIMEZONE
TZID:Asia/Krasnoyarsk
BEGIN:STANDARD
TZOFFSETFROM:+0700
TZOFFSETTO:+0700
TZNAME:+07
DTSTART:20250101T000000
END:STANDARD
END:VTIMEZONE
BEGIN:VEVENT
DTSTART;TZID=Asia/Krasnoyarsk:20251124T080000
DTEND;TZID=Asia/Krasnoyarsk:20251124T170000
DTSTAMP:20260421T204653
CREATED:20251112T043154Z
LAST-MODIFIED:20251112T045138Z
UID:2146-1763971200-1764003600@training.piyamanee.com
SUMMARY:หลักสูตร "วิศวกรรมความปลอดภัยเกี่ยวกับรถปั้นจั่น
DESCRIPTION:หลักสูตร “วิศวกรรมความปลอดภัยเกี่ยวกับรถปั้นจั่น\nวันที่ 24 พฤศจิกายน 2568 ลงทะเบียนตั้งแต่เวลา 08.00 น. \n\n\n\n\n\n\n\nเดือนนี้อีก 1 หลักสูตร ฟรี สำหรับสาขาระยอง \n\n\n\nขอเชิญเข้าร่วมโครงการอมรมฟรีทำดีเพื่อแผ่นดิน ครั้งที่ 79 \n\n\n\n หลักสูตร “วิศวกรรมความปลอดภัยเกี่ยวกับรถปั้นจั่น \n\n\n\nวันที่ 24 พฤศจิกายน 2568 ลงทะเบียนตั้งแต่เวลา 08.00 น. \n\n\n\nลงทะเบียนสมัคร กดลิงค์ \n\n\n\nhttps://forms.gle/v1mMsHMVYHqjEkcw9 \n\n\n\nปิยะมณี เซอร์วิส เทรนนิ่ง เซ็นเตอร์ จ.ระยอง \n\n\n\nhttps://maps.app.goo.gl/LhAnjap4WYiukm9j7 \n\n\n\nจำกัดจำนวน บริษัทละ 2 ท่านเท่านั้น \n\n\n\nดาวน์โหลดเอกสารใบส่งตัว เพื่อนำส่งให้เจ้าหน้าที่ ณ จุดลงทะเบียนในวันอบรมค่ะ \n\n\n\nอบรมฟรีไม่มีค่าใช้จ่าย \n\n\n\nได้รับใบวุฒิบัตรหลังจบการอบรม \n\n\n\nวิทยากรผู้เชี่ยวชาญ \n\n\n\n Scan QR Code สมัครได้เลย
URL:https://training.piyamanee.com/event/%e0%b8%ab%e0%b8%a5%e0%b8%b1%e0%b8%81%e0%b8%aa%e0%b8%b9%e0%b8%95%e0%b8%a3-%e0%b8%a7%e0%b8%b4%e0%b8%a8%e0%b8%a7%e0%b8%81%e0%b8%a3%e0%b8%a3%e0%b8%a1%e0%b8%84%e0%b8%a7%e0%b8%b2%e0%b8%a1%e0%b8%9b/
CATEGORIES:Comming Soon
END:VEVENT
END:VCALENDAR