BEGIN:VCALENDAR
VERSION:2.0
PRODID:-// - ECPv6.7.1//NONSGML v1.0//EN
CALSCALE:GREGORIAN
METHOD:PUBLISH
X-ORIGINAL-URL:https://training.piyamanee.com
X-WR-CALDESC:Events for 
REFRESH-INTERVAL;VALUE=DURATION:PT1H
X-Robots-Tag:noindex
X-PUBLISHED-TTL:PT1H
BEGIN:VTIMEZONE
TZID:Asia/Krasnoyarsk
BEGIN:STANDARD
TZOFFSETFROM:+0700
TZOFFSETTO:+0700
TZNAME:+07
DTSTART:20250101T000000
END:STANDARD
END:VTIMEZONE
BEGIN:VEVENT
DTSTART;TZID=Asia/Krasnoyarsk:20251016T000000
DTEND;TZID=Asia/Krasnoyarsk:20251016T235900
DTSTAMP:20260421T172746
CREATED:20250923T170141Z
LAST-MODIFIED:20250923T171800Z
UID:2112-1760572800-1760659140@training.piyamanee.com
SUMMARY:แผนอบรมปี 2568  Work At Height ความปลอดภัยในการทำงานบนที่สูง”
DESCRIPTION:แผนอบรมปี 2568 Work At Height ความปลอดภัยในการทำงานบนที่สูง”\n TRAINING COURSES (2025) ของปีนี้ มาดูกันว่ามีหลักสูตรใด วันไหน ที่ใดกันบ้าง  \n\n\n\n……………………………………………………………………………………. \n\n\n\n** “Work At Height ความปลอดภัยในการทำงานบนที่สูง” \n\n\n\n** “ความปลอดภัยในการทำงานเกี่ยวกับไฟฟ้าสำหรับลูกจ้าง ซึ่งปฏิบัติหน้าที่เกี่ยวกับไฟฟ้า” \n\n\n\n วางแพลน ติดต่อ เพื่อจัดการอบรมสำหรับคุณได้เลย \n\n\n\n ติดตามข่าวสารและสอบถามเพิ่มเติม โทร : 091-7983312 \n\n\n\nLINE Official : @piyamaneetraining (มี @ ด้านหน้า) \n\n\n\nลงทะเบียนได้ตั้งแต่เวลา 08.00น. เป็นต้นไป \n\n\n\nลงทะเบียนเพียง 1\,605.-/ท่าน  \n\n\n\nราคารวม VAT7% \n\n\n\nได้รับวุฒิบัตรเมื่อผ่านการฝึกอบรม \n\n\n\nวิทยากรผู้เชี่ยวชาญ จากปิยะมณี เซอร์วิส เทรนนิ่ง เซ็นเตอร์ \n\n\n\n Scan Qr Code สมัครได้เลย \n\n\n\nสถานที่อบรม ศูนย์ฝึกอบรมที่สูง ปิยะมณี เซอร์วิส เทรนนิ่ง เซ็นเตอร์ \n\n\n\nhttps://maps.app.goo.gl/WD2nNJXH2JRn1GyAA \n\n\n\nสถานที่อบรมห้องสัมมนา อนุสรณ์ เบสเซฟ จำกัด (ชลบุรี) ต.หนองไม้แดง อ.เมือง จ.ชลบุรี \n\n\n\nhttps://maps.app.goo.gl/UDoii9bZGya1VkKt5?g_st=al| \n\n\n\nPublic Training \n\n\n\n \n\n\n\n\n\n\n\n#อบรมไฟฟ้า#งานอบรม \n\n\n\n#อบรมโครงการทำดีเพื่อแผ่นดิน \n\n\n\n#ศูนย์อบรมสัมนาปิยะมณีเทรนนิ่งเซนเตอร์ \n\n\n\n#อบรมความปลอดภัยในการทำงาน \n\n\n\n#BESTSAFE \n\n\n\n#อบรมจป \n\n\n\n#อบรมจประดับหัวหน้างาน \n\n\n\n#อบรมจประดับบริหาร \n\n\n\n#อบรมจประดับเทคนิค \n\n\n\n#อบรมคปอ \n\n\n\n#อบรมการขับรถโฟล์คลิฟท์ \n\n\n\n#การทำงานบนที่สูง \n\n\n\n#เทคนิคการติดตั้งนั่งร้านความปลอดภัยนั่งร้าน \n\n\n\n#ISO \n\n\n\n#โรคจากการประกอบอาชีพและสิ่งแวดล้อมตามกฎหมาย
URL:https://training.piyamanee.com/event/%e0%b9%81%e0%b8%9c%e0%b8%99%e0%b8%ad%e0%b8%9a%e0%b8%a3%e0%b8%a1%e0%b8%9b%e0%b8%b5-2568-work-at-height-%e0%b8%84%e0%b8%a7%e0%b8%b2%e0%b8%a1%e0%b8%9b%e0%b8%a5%e0%b8%ad%e0%b8%94%e0%b8%a0%e0%b8%b1/
CATEGORIES:Comming Soon
ATTACH;FMTTYPE=image/png:https://training.piyamanee.com/wp-content/uploads/2025/09/image-2.png
END:VEVENT
END:VCALENDAR