BEGIN:VCALENDAR
VERSION:2.0
PRODID:-// - ECPv6.7.1//NONSGML v1.0//EN
CALSCALE:GREGORIAN
METHOD:PUBLISH
X-ORIGINAL-URL:https://training.piyamanee.com
X-WR-CALDESC:Events for 
REFRESH-INTERVAL;VALUE=DURATION:PT1H
X-Robots-Tag:noindex
X-PUBLISHED-TTL:PT1H
BEGIN:VTIMEZONE
TZID:Asia/Krasnoyarsk
BEGIN:STANDARD
TZOFFSETFROM:+0700
TZOFFSETTO:+0700
TZNAME:+07
DTSTART:20220101T000000
END:STANDARD
END:VTIMEZONE
BEGIN:VEVENT
DTSTART;TZID=Asia/Krasnoyarsk:20230526T080000
DTEND;TZID=Asia/Krasnoyarsk:20230526T170000
DTSTAMP:20260422T175502
CREATED:20230503T070227Z
LAST-MODIFIED:20230602T094753Z
UID:945-1685088000-1685120400@training.piyamanee.com
SUMMARY:โครงการอบรมฟรีทำดีเพื่อแผ่นดินครั้งที่ 27  "EMERGENCY PREPARENESS AND RESPONSE" (การเตรียมความพร้อมตอบสนองต่อภาวะฉุกเฉิน)
DESCRIPTION:โครงการอบรมฟรีทำดีเพื่อแผ่นดิน ครั้งที่ 27 “EMERGENCY PREPARENESS AND RESPONSE” (การเตรียมความพร้อมตอบสนองต่อภาวะฉุกเฉิน)\n26 พฤษภาคม 2566 \n\n\n\n\n\n\n\n\n\n📣 Piyamanee Training Center ขอเชิญเข้าร่วมอบรมสัมมนา โครงการอบรมฟรีทำดีเพื่อแผ่นดินครั้งที่ 27 หลักสูตร “EMERGENCY PREPARENESS AND RESPONSE” (การเตรียมความพร้อมตอบสนองต่อภาวะฉุกเฉิน) วันที่ 26 พฤษภาคม 2566 จึงขอเรียนเชิญผู้ที่สนใจสมัครเข้าร่วมอบรม \n\n\n\n\n\n\n\nกำหนดการสัมมนา \n\n\n\n“EMERGENCY PREPARENESS AND RESPONSE” (การเตรียมความพร้อมตอบสนองต่อภาวะฉุกเฉิน) \n\n\n\n  วันที่ 26 เดือน พฤษภาคม พ.ศ. 2566 ณ ปิยะมณี เทรนนิ่ง เซ็นเตอร์  จังหวัดระยอง
URL:https://training.piyamanee.com/event/%e0%b9%82%e0%b8%84%e0%b8%a3%e0%b8%87%e0%b8%81%e0%b8%b2%e0%b8%a3%e0%b8%ad%e0%b8%9a%e0%b8%a3%e0%b8%a1%e0%b8%9f%e0%b8%a3%e0%b8%b5%e0%b8%97%e0%b8%b3%e0%b8%94%e0%b8%b5%e0%b9%80%e0%b8%9e%e0%b8%b7%e0%b9%88-3/
CATEGORIES:ที่ผ่านมาแล้ว
END:VEVENT
BEGIN:VEVENT
DTSTART;TZID=Asia/Krasnoyarsk:20230512T080000
DTEND;TZID=Asia/Krasnoyarsk:20230512T170000
DTSTAMP:20260422T175502
CREATED:20230503T062639Z
LAST-MODIFIED:20230602T094740Z
UID:934-1683878400-1683910800@training.piyamanee.com
SUMMARY:โครงการอบรมฟรีทำดีเพื่อแผ่นดินครั้งที่ 26 "ISO14001" (มาตรฐานระบบการจัดการสิ่งแวดล้อม)
DESCRIPTION:โครงการอบรมฟรีทำดีเพื่อแผ่นดินครั้งที่ 26 “ISO14001” (มาตรฐานระบบการจัดการสิ่งแวดล้อม)\n\n\n\n\n\n\n📣 Piyamanee Training Center ขอเชิญเข้าร่วมอบรมสัมมนา โครงการอบรมฟรีทำดีเพื่อแผ่นดินครั้งที่ 26 หลักสูตร “ISO14001 (มาตรฐานระบบการจัดการสิ่งแวดล้อม)” วันที่ 12 พฤษภาคม 2566 จึงขอเรียนเชิญผู้ที่สนใจสมัครเข้าร่วมอบรม
URL:https://training.piyamanee.com/event/%e0%b9%82%e0%b8%84%e0%b8%a3%e0%b8%87%e0%b8%81%e0%b8%b2%e0%b8%a3%e0%b8%ad%e0%b8%9a%e0%b8%a3%e0%b8%a1%e0%b8%9f%e0%b8%a3%e0%b8%b5%e0%b8%97%e0%b8%b3%e0%b8%94%e0%b8%b5%e0%b9%80%e0%b8%9e%e0%b8%b7%e0%b9%88-2/
CATEGORIES:ที่ผ่านมาแล้ว
END:VEVENT
BEGIN:VEVENT
DTSTART;TZID=Asia/Krasnoyarsk:20230511T080000
DTEND;TZID=Asia/Krasnoyarsk:20230511T170000
DTSTAMP:20260422T175502
CREATED:20230421T063339Z
LAST-MODIFIED:20230602T094734Z
UID:896-1683792000-1683824400@training.piyamanee.com
SUMMARY:โครงการอบรมฟรี ทำดีเพื่อแผ่นดินครั้งที่ 24  หลักสูตร PSM  process safety management และการทำงานจัดการตามประกาศกฎหมายฉบับใหม่
DESCRIPTION:โครงการอบรมฟรีทำดีเพื่อแผ่นดินครั้งที่ 24 “PSM PROCESS SAFETY MANAGEMENT”\n\n\n\n\n\n\n📣 Piyamanee Training Center ขอเชิญเข้าร่วมอบรมสัมมนา โครงการอบรมฟรีทำดีเพื่อแผ่นดินครั้งที่ 24 “หลักสูตร PSM PROCESS SAFETY MANAGEMENT” วันที่ 11 พฤษภาคม 2566   \n\n\n\n\n\n\n\nกำหนดการสัมมนา \n\n\n\n“PSM PROCESS SAFETY MANAGEMENT” \n\n\n\n  วันที่ 11 เดือน พฤษภาคม พ.ศ. 2566 ณ ปิยะมณี เทรนนิ่ง เซ็นเตอร์  จังหวัดระยอง
URL:https://training.piyamanee.com/event/%e0%b9%82%e0%b8%84%e0%b8%a3%e0%b8%87%e0%b8%81%e0%b8%b2%e0%b8%a3%e0%b8%ad%e0%b8%9a%e0%b8%a3%e0%b8%a1%e0%b8%9f%e0%b8%a3%e0%b8%b5-%e0%b8%97%e0%b8%b3%e0%b8%94%e0%b8%b5%e0%b9%80%e0%b8%9e%e0%b8%b7-4/
CATEGORIES:ที่ผ่านมาแล้ว
END:VEVENT
BEGIN:VEVENT
DTSTART;TZID=Asia/Krasnoyarsk:20230503T080000
DTEND;TZID=Asia/Krasnoyarsk:20230503T170000
DTSTAMP:20260422T175502
CREATED:20230503T070100Z
LAST-MODIFIED:20230824T071032Z
UID:943-1683100800-1683133200@training.piyamanee.com
SUMMARY:โครงการอบรมฟรีทำดีเพื่อแผ่นดินครั้งที่ 27 "EMERGENCY PREPARENESS AND RESPONSE" (การเตรียมความพร้อมตอบสนองต่อภาวะฉุกเฉิน)
DESCRIPTION:โครงการอบรมฟรีทำดีเพื่อแผ่นดิน ครั้งที่ 27 “EMERGENCY PREPARENESS AND RESPONSE” (การเตรียมความพร้อมตอบสนองต่อภาวะฉุกเฉิน)\n26 พฤษภาคม 2566 \n\n\n\n\n\n\n\n\n\n📣 Piyamanee Training Center ขอเชิญเข้าร่วมอบรมสัมมนา โครงการอบรมฟรีทำดีเพื่อแผ่นดินครั้งที่ 27 หลักสูตร “EMERGENCY PREPARENESS AND RESPONSE” (การเตรียมความพร้อมตอบสนองต่อภาวะฉุกเฉิน) วันที่ 26 พฤษภาคม 2566 จึงขอเรียนเชิญผู้ที่สนใจสมัครเข้าร่วมอบรม \n\n\n\n\n\n\n\nกำหนดการสัมมนา \n\n\n\n“EMERGENCY PREPARENESS AND RESPONSE” (การเตรียมความพร้อมตอบสนองต่อภาวะฉุกเฉิน) \n\n\n\n  วันที่ 26 เดือน พฤษภาคม พ.ศ. 2566 ณ ปิยะมณี เทรนนิ่ง เซ็นเตอร์  จังหวัดระยอง
URL:https://training.piyamanee.com/event/%e0%b9%82%e0%b8%84%e0%b8%a3%e0%b8%87%e0%b8%81%e0%b8%b2%e0%b8%a3%e0%b8%ad%e0%b8%9a%e0%b8%a3%e0%b8%a1%e0%b8%9f%e0%b8%a3%e0%b8%b5%e0%b8%97%e0%b8%b3%e0%b8%94%e0%b8%b5%e0%b9%80%e0%b8%9e%e0%b8%b7%e0%b9%88/
CATEGORIES:ที่ผ่านมาแล้ว
END:VEVENT
BEGIN:VEVENT
DTSTART;TZID=Asia/Krasnoyarsk:20230331T080000
DTEND;TZID=Asia/Krasnoyarsk:20230331T163000
DTSTAMP:20260422T175502
CREATED:20230307T035426Z
LAST-MODIFIED:20230602T094647Z
UID:772-1680249600-1680280200@training.piyamanee.com
SUMMARY:โครงการอบรมฟรี ทำดีเพื่อแผ่นดิน ครั้งที่  22  หลักสูตร ISO 45001
DESCRIPTION:รอการเปิดลงทะเบียน \nโครงการอบรมฟรี ทำดีเพื่อแผ่นดิน ครั้งที่ 22 “ISO 45001 : 2018 ข้อกำหนดมาตรฐานระบบการจัดการอาชีวอนามัยและความปลอดภัย”\nวันที่ 31 มีนาคม 2566 \n\n\n\n📣Piyamanee Training Center หลักสูตร “โครงการอบรมฟรี ทำดีเพื่อแผ่นดิน ครั้งที่ 22 ““ISO 45001 : 2018 ข้อกำหนดมาตรฐานระบบการจัดการอาชีวอนามัยและความปลอดภัย”  ”วันที่ 31 มีนาคม  เวลา 08.30 – 16:30 น.
URL:https://training.piyamanee.com/event/%e0%b8%ad%e0%b8%9a%e0%b8%a3%e0%b8%a1%e0%b8%9f%e0%b8%a3%e0%b8%b5-%e0%b8%97%e0%b8%b3%e0%b8%94%e0%b8%b5%e0%b9%80%e0%b8%9e%e0%b8%b7%e0%b9%88%e0%b8%ad%e0%b9%81%e0%b8%9c%e0%b9%88%e0%b8%99%e0%b8%94-11/
CATEGORIES:ที่ผ่านมาแล้ว
END:VEVENT
BEGIN:VEVENT
DTSTART;TZID=Asia/Krasnoyarsk:20230329T080000
DTEND;TZID=Asia/Krasnoyarsk:20230329T163000
DTSTAMP:20260422T175502
CREATED:20230307T035145Z
LAST-MODIFIED:20230824T070802Z
UID:766-1680076800-1680107400@training.piyamanee.com
SUMMARY:โครงการอบรมฟรี ทำดีเพื่อแผ่นดิน ครั้งที่ 21 หลักสูตร การเตรียมความพร้อมของนักดับเพลิง รวมถึง อุปกรณ์ที่มีผลต่อชีวิตนักดับเพลิง
DESCRIPTION:อบรมฟรี ทำดีเพื่อแผ่นดิน ครั้งที่ 21 หลักสูตร การเตรียมความพร้อมของนักดับเพลิง รวมถึง อุปกรณ์ที่มีผลต่อชีวิตนักดับเพลิงและการบำรุงรักษาอุปกรณ์ดับเพลิง”\nวันที่ 29 มีนาคม 2566 \n\n\n\n📣Piyamanee Training Center หลักสูตร “โครงการอบรมฟรี ทำดีเพื่อแผ่นดิน ครั้งที่ 21 ” หลักสูตร การเตรียมความพร้อมของนักดับเพลิง รวมถึง อุปกรณ์ที่มีผลต่อชีวิตนักดับเพลิง”วันที่  29  มีนาคม  เวลา 08.30 – 16:30 น.
URL:https://training.piyamanee.com/event/%e0%b8%ad%e0%b8%9a%e0%b8%a3%e0%b8%a1%e0%b8%9f%e0%b8%a3%e0%b8%b5-%e0%b8%97%e0%b8%b3%e0%b8%94%e0%b8%b5%e0%b9%80%e0%b8%9e%e0%b8%b7%e0%b9%88%e0%b8%ad%e0%b9%81%e0%b8%9c%e0%b9%88%e0%b8%99%e0%b8%94-9/
CATEGORIES:ที่ผ่านมาแล้ว
END:VEVENT
BEGIN:VEVENT
DTSTART;TZID=Asia/Krasnoyarsk:20230328T080000
DTEND;TZID=Asia/Krasnoyarsk:20230328T163000
DTSTAMP:20260422T175502
CREATED:20230307T035304Z
LAST-MODIFIED:20230602T094631Z
UID:769-1679990400-1680021000@training.piyamanee.com
SUMMARY:โครงการอบรมฟรี ทำดีเพื่อแผ่นดิน ครั้งที่ 20 หลักสูตรแนวทางTSM และ ป้ายงานขนส่ง
DESCRIPTION:รอการเปิดลงทะเบียน \nโครงการ อบรมฟรี ทำดีเพื่อแผ่นดิน ครั้งที่ 20 หลักสูตร แนวทาง TSM ปิดรับสมัคร\n28  มีนาคม  2566 \n\n\n\nหลักสูตร “โครงการอบรมฟรี ทำดีเพื่อแผ่นดิน ครั้งที่ 20
URL:https://training.piyamanee.com/event/%e0%b8%ad%e0%b8%9a%e0%b8%a3%e0%b8%a1%e0%b8%9f%e0%b8%a3%e0%b8%b5-%e0%b8%97%e0%b8%b3%e0%b8%94%e0%b8%b5%e0%b9%80%e0%b8%9e%e0%b8%b7%e0%b9%88%e0%b8%ad%e0%b9%81%e0%b8%9c%e0%b9%88%e0%b8%99%e0%b8%94-10/
CATEGORIES:ที่ผ่านมาแล้ว
END:VEVENT
BEGIN:VEVENT
DTSTART;TZID=Asia/Krasnoyarsk:20230324T080000
DTEND;TZID=Asia/Krasnoyarsk:20230324T163000
DTSTAMP:20260422T175502
CREATED:20230221T063050Z
LAST-MODIFIED:20230602T094627Z
UID:693-1679644800-1679675400@training.piyamanee.com
SUMMARY:โครงการอบรมฟรี ทำดีเพื่อแผ่นดิน ครั้งที่ 19 หลักสูตร สัมมนาให้ความรู้ทางกฎหมาย PDPA (Personal Data Protection Act )
DESCRIPTION:โครงการ อบรมฟรี ทำดีเพื่อแผ่นดิน ครั้งที่ 19 หลักสูตร สัมมนาให้ความรู้ทางกฎหมาย PDPA (Personal Data Protection Act )\n24  มีนาคม  2566 \n\n\n\nหลักสูตร “โครงการอบรมฟรี ทำดีเพื่อแผ่นดิน ครั้งที่ 19 หลักสูตร สัมมนาให้ความรู้ทางกฎหมาย PDPA (Personal Data Protection Act )
URL:https://training.piyamanee.com/event/%e0%b8%ad%e0%b8%9a%e0%b8%a3%e0%b8%a1%e0%b8%9f%e0%b8%a3%e0%b8%b5-%e0%b8%97%e0%b8%b3%e0%b8%94%e0%b8%b5%e0%b9%80%e0%b8%9e%e0%b8%b7%e0%b9%88%e0%b8%ad%e0%b9%81%e0%b8%9c%e0%b9%88%e0%b8%99%e0%b8%94-4/
CATEGORIES:ที่ผ่านมาแล้ว
END:VEVENT
BEGIN:VEVENT
DTSTART;TZID=Asia/Krasnoyarsk:20230323T080000
DTEND;TZID=Asia/Krasnoyarsk:20230323T163000
DTSTAMP:20260422T175502
CREATED:20230307T034851Z
LAST-MODIFIED:20230602T094622Z
UID:762-1679558400-1679589000@training.piyamanee.com
SUMMARY:โครงการอบรมฟรี ทำดีเพื่อแผ่นดิน ครั้งที่ 18  หลักสูตรไฟฟ้า การช่วยเหลือผู้ประสบภัยจากไฟฟ้า
DESCRIPTION:รอเปิดลงทะเบียน \nโครงการ อบรมฟรีทำ ดีเพื่อแผ่นดิน คร้ังที่ 18 หลักสูตรไฟฟ้าการช่วยเหลือผู้ประสบภัยจาการทำงานเกี่ยวกับไฟฟ้า\n23  มีนาคม  2566 \n\n\n\nหลักสูตร “โครงการอบรมฟรี ทำดีเพื่อแผ่นดิน ครั้งที่ 18 หลักสูตร
URL:https://training.piyamanee.com/event/%e0%b8%ad%e0%b8%9a%e0%b8%a3%e0%b8%a1%e0%b8%9f%e0%b8%a3%e0%b8%b5-%e0%b8%97%e0%b8%b3%e0%b8%94%e0%b8%b5%e0%b9%80%e0%b8%9e%e0%b8%b7%e0%b9%88%e0%b8%ad%e0%b9%81%e0%b8%9c%e0%b9%88%e0%b8%99%e0%b8%94-8/
CATEGORIES:ที่ผ่านมาแล้ว
END:VEVENT
BEGIN:VEVENT
DTSTART;TZID=Asia/Krasnoyarsk:20230322T080000
DTEND;TZID=Asia/Krasnoyarsk:20230322T163000
DTSTAMP:20260422T175502
CREATED:20230307T034605Z
LAST-MODIFIED:20230824T062603Z
UID:759-1679472000-1679502600@training.piyamanee.com
SUMMARY:โครงการอบรมฟรี ทำดีเพื่อแผ่นดิน ครั้งที่ 17 หลักสูตร แนวทางอบรมหลักสูตร จป.หัวหน้างาน จป.บริหาร ตามกฎหมาย และอุปกรณ์PPE
DESCRIPTION:โครงการ อบรมฟรี ทำดีเพื่อแผ่นดิน คร้ังที่ 17 หลักสูตรแนวทางอบรม หลักสูตรจป. หัวหน้างาน จป.บริหาร ตามกฎหมาย และการเลือกใช้ การใช้งาน การบำรุงรักษาอุปกรณ์ PPE\n22  มีนาคม  2566 \n\n\n\nโครงการอบรมฟรี ทำดีเพื่อแผ่นดิน ครั้งที่ 17 หลักสูตรแนวทางอบรม หลักสูตรจป. หัวหน้างาน จป.บริหาร ตามกฎหมาย และการเลือกใช้ การใช้งาน การบำรุงรักษาอุปกรณ์ PPE
URL:https://training.piyamanee.com/event/%e0%b8%ad%e0%b8%9a%e0%b8%a3%e0%b8%a1%e0%b8%9f%e0%b8%a3%e0%b8%b5-%e0%b8%97%e0%b8%b3%e0%b8%94%e0%b8%b5%e0%b9%80%e0%b8%9e%e0%b8%b7%e0%b9%88%e0%b8%ad%e0%b9%81%e0%b8%9c%e0%b9%88%e0%b8%99%e0%b8%94-7/
CATEGORIES:ที่ผ่านมาแล้ว
END:VEVENT
BEGIN:VEVENT
DTSTART;TZID=Asia/Krasnoyarsk:20230317T080000
DTEND;TZID=Asia/Krasnoyarsk:20230317T163000
DTSTAMP:20260422T175502
CREATED:20230221T050250Z
LAST-MODIFIED:20230602T094613Z
UID:687-1679040000-1679070600@training.piyamanee.com
SUMMARY:โครงการอบรมฟรี ทำดีเพื่อแผ่นดิน ครั้งที่ 16 หลักสูตร ความปลอดภัยในการทำงานกับสารเคมี Part III การป้องกันระบบทางเดินหายใจ Respiratory protection
DESCRIPTION:โครงการอบรมฟรี ทำดีเพื่อแผ่นดิน ครั้งที่ 16 หลักสูตร ความปลอดภัยในการทำงานกับสารเคมี Part III การป้องกันระบบทางเดินหายใจ Respiratory protection\n17  มีนาคม  2566 \n\n\n\nหลักสูตร “โครงการอบรมฟรี ทำดีเพื่อแผ่นดิน ครั้งที่ 16 หลักสูตร หลักสูตร ความปลอดภัยในการทำงานกับสารเคมี Part III การป้องกันระบบทางเดินหายใจ Respiratory protection
URL:https://training.piyamanee.com/event/%e0%b8%ad%e0%b8%9a%e0%b8%a3%e0%b8%a1%e0%b8%9f%e0%b8%a3%e0%b8%b5-%e0%b8%97%e0%b8%b3%e0%b8%94%e0%b8%b5%e0%b9%80%e0%b8%9e%e0%b8%b7%e0%b9%88%e0%b8%ad%e0%b9%81%e0%b8%9c%e0%b9%88%e0%b8%99%e0%b8%94-3/
CATEGORIES:ที่ผ่านมาแล้ว
END:VEVENT
BEGIN:VEVENT
DTSTART;TZID=Asia/Krasnoyarsk:20230316T080000
DTEND;TZID=Asia/Krasnoyarsk:20230316T163000
DTSTAMP:20260422T175502
CREATED:20230307T034258Z
LAST-MODIFIED:20230602T094609Z
UID:756-1678953600-1678984200@training.piyamanee.com
SUMMARY:โครงการอบรมฟรี ทำดีเพื่อแผ่นดิน ครั้งที่ 15 หลักสูตร IS0 9001:2015
DESCRIPTION:โครงการ อบรมฟรีทำ ดีเพื่อแผ่นดิน คร้ังที่ 15 หลักสูตร “ความรู้ความเข้าใจในระบบ ISO 9001 : 2015”\n16  มีนาคม  2566 \n\n\n\nหลักสูตร “โครงการอบรมฟรี ทำดีเพื่อแผ่นดิน ครั้งที่ 15 หลักสูตร ความรู้ความเข้าใจในระบบ ISO 9001 : 2015 การอบรมครั้งนี้เน้นย้ำให้แก่ ผู้ที่สนใจระบบบริหารงานคุณภาพสำหรับผู้ไม่มีพื้นฐานมาก่อน
URL:https://training.piyamanee.com/event/%e0%b8%ad%e0%b8%9a%e0%b8%a3%e0%b8%a1%e0%b8%9f%e0%b8%a3%e0%b8%b5-%e0%b8%97%e0%b8%b3%e0%b8%94%e0%b8%b5%e0%b9%80%e0%b8%9e%e0%b8%b7%e0%b9%88%e0%b8%ad%e0%b9%81%e0%b8%9c%e0%b9%88%e0%b8%99%e0%b8%94-6/
CATEGORIES:ที่ผ่านมาแล้ว
END:VEVENT
BEGIN:VEVENT
DTSTART;TZID=Asia/Krasnoyarsk:20230315T080000
DTEND;TZID=Asia/Krasnoyarsk:20230315T163000
DTSTAMP:20260422T175502
CREATED:20230307T034038Z
LAST-MODIFIED:20230602T094601Z
UID:753-1678867200-1678897800@training.piyamanee.com
SUMMARY:โครงการอบรมฟรี ทำดีเพื่อแผ่นดิน ครั้งที่ 14 หลักสูตร ความรู้เรื่องประกันสังคม
DESCRIPTION:รอการเปิดลงทะเบียน \nโครงการอบรมฟรี ทำดีเพื่อแผ่นดิน คร้ังที่ 14  หลักสูตร “ความรู้เรื่องสิทธิประโยชน์ประกันสังคม”\n15 มีนาคม 2566 \n\n\n\n📣Piyamanee Training Center หลักสูตร “โครงการอบรมฟรี ทำดีเพื่อแผ่นดิน ครั้งที่ 14 “หลักสูตร ความรู้เรื่องสิทธิประโยชน์ประกันสังคม”วันที่ 15 มีนาคม  เวลา 08.30 – 16:30 น. \n\n\n\n\n\n\n\n\n\n\n\nกำหนดการ \n\n\n\nเวลารายละเอียด08.00-08.30 น.ลงทะเบียน08.30-09.00 น.กล่าวต้อนรับและเปิดงาน09.00-12.00 น.วิทยากร บรรยาย12.00-13.00 น.พักรับประทานอาหาร13.00 -17.00 น.วิทยากร บรรยาย16.00-16.30 น.ประเมินการอบรมเพื่อรับประกาศศนียบัตร\n\n\n\nหมายเหตุ 10.30 น. – 10.45 น. พักเบรคภาคเช้า 14.30 น. – 14.45 น. พักเบรคภาคบ่าย
URL:https://training.piyamanee.com/event/%e0%b8%ad%e0%b8%9a%e0%b8%a3%e0%b8%a1%e0%b8%9f%e0%b8%a3%e0%b8%b5-%e0%b8%97%e0%b8%b3%e0%b8%94%e0%b8%b5%e0%b9%80%e0%b8%9e%e0%b8%b7%e0%b9%88%e0%b8%ad%e0%b9%81%e0%b8%9c%e0%b9%88%e0%b8%99%e0%b8%94-5/
CATEGORIES:ที่ผ่านมาแล้ว
END:VEVENT
BEGIN:VEVENT
DTSTART;TZID=Asia/Krasnoyarsk:20230310T080000
DTEND;TZID=Asia/Krasnoyarsk:20230310T163000
DTSTAMP:20260422T175502
CREATED:20230221T041556Z
LAST-MODIFIED:20230602T094556Z
UID:675-1678435200-1678465800@training.piyamanee.com
SUMMARY:โครงการอบรมฟรี ทำดีเพื่อแผ่นดิน ครั้งที่ 13  หลักสูตรที่สูง   เรื่อง ความเสี่ยงของการทำงานบนที่สูงและการใช้การอุปกรณ์ยับยั้งการตก Risks of working at height and use fall protection
DESCRIPTION:โครงการ อบรมฟรี ทำดีเพื่อแผ่นดิน ครั้งที่  13                      หลักสูตรการทำงานบนที่สูง                                                            เรื่อง ความเสี่ยงของการทำงานบนที่สูงและการใช้การอุปกรณ์ยับยั้งการตก Risks of working at height and use fall protection\n10 มีนาคม 2566 \n\n\n\n📣Piyamanee Training Center หัวข้ออบรม ความเสี่ยงของการทำงานบนที่สูงและการใช้การอุปกรณ์ยับยั้งการตก Risks of working at height and use fall protection \n\n\n\n\n\n\n\n\n\n\n\nกำหนดการวันอบรม \n\n\n\nเวลารายละเอียด08.00-08.30 น.ลงทะเบียน08.30-09.00 น.กล่าวต้อนรับและเปิดงาน09.00-12.00 น.วิทยากร บรรยาย12.00-13.00 น.พักรับประทานอาหาร13.00 -17.00 น.วิทยากร บรรยาย16.00-16.30 น.ประเมินการอบรมเพื่อรับประกาศศนียบัตรหมายเหตุ 10.30 น. – 10.45 น. พักเบรคภาคเช้า 14.30 น. – 14.45 น. พักเบรคภาคบ่าย\n\n\n\nติดต่อสอบถามได้ที่091 – 7983-312 คุณอัญ / คุณกวาง
URL:https://training.piyamanee.com/event/%e0%b8%ad%e0%b8%9a%e0%b8%a3%e0%b8%a1%e0%b8%9f%e0%b8%a3%e0%b8%b5-%e0%b8%97%e0%b8%b3%e0%b8%94%e0%b8%b5%e0%b9%80%e0%b8%9e%e0%b8%b7%e0%b9%88%e0%b8%ad%e0%b9%81%e0%b8%9c%e0%b9%88%e0%b8%99%e0%b8%94-2/
CATEGORIES:ที่ผ่านมาแล้ว
END:VEVENT
BEGIN:VEVENT
DTSTART;TZID=Asia/Krasnoyarsk:20230224T080000
DTEND;TZID=Asia/Krasnoyarsk:20230224T163000
DTSTAMP:20260422T175502
CREATED:20230126T050043Z
LAST-MODIFIED:20230602T094550Z
UID:576-1677225600-1677256200@training.piyamanee.com
SUMMARY:โครงการอบรมฟรี ทำดีเพื่อแผ่นดิน ครั้งที่ 12 "ประเมินความเสี่ยง "
DESCRIPTION:โครงการอบรมฟรี ทำดีเพื่อแผ่นดิน ครั้งที่ 12 “หลักสูตร ISO9001 QUALITY MANAGEMENT SYSTEM”\n24 กุมภาพันธ์ 2566 \n\n\n\n\n\n\n\n\n\n\n\n  หลักสูตรอบรม \n\n\n\n\nRequirement\n\n\n\nIA & MRW\n\n\n\nRisk & Opportunity\n\n\n\nNeed & expectation\n\n\n\n\n         \n\n\n\n\n\n\n\nติดต่อสอบถาม คุณกวาง 06 1114 9388 / คุณอัน 06 4683 0327หมายเหตุ : ผู้ที่เข้าอบรมครบตามกำหนด จึงจะมีสิทธิได้รับวุฒิบัตร
URL:https://training.piyamanee.com/event/%e0%b9%82%e0%b8%84%e0%b8%a3%e0%b8%87%e0%b8%81%e0%b8%b2%e0%b8%a3%e0%b8%ad%e0%b8%9a%e0%b8%a3%e0%b8%a1%e0%b8%9f%e0%b8%a3%e0%b8%b5-%e0%b8%97%e0%b8%b3%e0%b8%94%e0%b8%b5%e0%b9%80%e0%b8%9e%e0%b8%b7-2/
CATEGORIES:ที่ผ่านมาแล้ว
END:VEVENT
BEGIN:VEVENT
DTSTART;TZID=Asia/Krasnoyarsk:20230221T080000
DTEND;TZID=Asia/Krasnoyarsk:20230221T160000
DTSTAMP:20260422T175502
CREATED:20230201T071331Z
LAST-MODIFIED:20230602T094531Z
UID:601-1676966400-1676995200@training.piyamanee.com
SUMMARY:โครงการอบรมฟรี ทำดีเพื่อแผ่นดิน ครั้งที่ 11 "หลักสูตร Care & Maintenance of Protective Ensembles for Fire Fighting Course การซัก การทำความสะอาดและบำรุงรักษา ชุดพจญเพลิง ชุดป้องกันสารเคมี ชุดเทคนิค และนวัตกรรมตามข้อกำหนดสากล "
DESCRIPTION:โครงการอบรมฟรี ทำดีเพื่อแผ่นดิน ครั้งที่ 11 “หลักสูตร Care & Maintenance of Protective Ensembles for Fire Fighting Course การซัก การทำความสะอาดและบำรุงรักษา ชุดพจญเพลิง ชุดป้องกันสารเคมี ชุดเทคนิค และนวัตกรรมตามข้อกำหนดสากล”\n21 กุมภาพันธ์  2566 \n\n\n\nขอประชาสัมพันธ์📣Piyamanee Training Center “โครงการอบรมฟรี ทำดีเพื่อแผ่นดิน ครั้งที่ 11 “หลักสูตร Care & Maintenance of Protective Ensembles for Fire Fighting Course การซัก การทำความสะอาดและบำรุงรักษา ชุดพจญเพลิง ชุดป้องกันสารเคมี ชุดเทคนิค และนวัตกรรมตามข้อกำหนดสากล   “วันที่ 21 กุมภาพันธ์ 2566 เวลา 08.30 – 16.00 น. \n\n\n\n\n\n\n\n\n\n\n\nเวลารายละเอียด08.00-08.30 น.ลงทะเบียน08.30-09.00 น.กล่าวต้อนรับและเปิดงาน09.00-12.00 น.วิทยากร บรรยาย12.00-13.00 น.พักรับประทานอาหาร13.00 -16.20 น.วิทยากร บรรยาย16.20-16.30 น.ประเมินการฝึกอบรมเพื่อรับประกาศศนียบัตรตามเกณฑ์\n\n\n\nหมายเหตุ 10.30 น. – 10.45 น. พักเบรคภาคเช้า 14.30 น. – 14.45 น. พักเบรคภาคบ่าย
URL:https://training.piyamanee.com/event/%e0%b9%82%e0%b8%84%e0%b8%a3%e0%b8%87%e0%b8%81%e0%b8%b2%e0%b8%a3%e0%b8%ad%e0%b8%9a%e0%b8%a3%e0%b8%a1%e0%b8%9f%e0%b8%a3%e0%b8%b5-%e0%b8%97%e0%b8%b3%e0%b8%94%e0%b8%b5%e0%b9%80%e0%b8%9e%e0%b8%b7-5/
CATEGORIES:ที่ผ่านมาแล้ว
END:VEVENT
BEGIN:VEVENT
DTSTART;TZID=Asia/Krasnoyarsk:20230119T080000
DTEND;TZID=Asia/Krasnoyarsk:20230119T170000
DTSTAMP:20260422T175502
CREATED:20230106T100307Z
LAST-MODIFIED:20230603T063345Z
UID:538-1674115200-1674147600@training.piyamanee.com
SUMMARY:โครงการอบรมฟรี ทำดีเพื่อแผ่นดิน ครั้งที่ 8 "หลักสูตร ความปลอดภัยในการทำงานกับสารเคมี 6 ชั่วโมง
DESCRIPTION:โครงการอบรมฟรี ทำดีเพื่อแผ่นดิน ครั้งที่ 8 “หลักสูตร ความปลอดภัยในการทำงานกับสารเคมี 6 ชั่วโมง”\n19 มกราคม 2566 \n\n\n\nขอประชาสัมพันธ์📣Piyamanee Training Center หลักสูตร “อบรมความปลอดภัยในการทำงานกับสารเคมี 6 ชม. (CHEMICALS SAFETY TRAING COURSE PART I BASIC CHEMICALS HANDLING EP.I)” วันที่ 19 มกราคม 2566 เวลา 08.30 – 16.30 น. \n\n\n\n\n\n\n\n\n\n\n\nกำหนดการวันอบรม\n\n\n\n\n\nเวลารายละเอียด08.00-08.30 น. ลงทะเบียน08.30-09.00 น.พิธีเปิดต้อนรับ และกล่าวเปิดงาน09.00-12.00 น.วิทยากร : อาจารย์ทวีศักดิ์ ศรีจันทร์โฉม  ผู้เชี่ยวชาญด้านการจัดการสารเคมีบรรยายหัวข้อ  – ความรู้เบื้องต้นการทำงานกับสารเคมี                          – ความปลอดภัยในการทำงานกับสารเคมี12.00-13.00 น.พักรับประทานอาหาร13.00 – 14.30 น.14.45 – 16.30 นวิทยากร : อาจารย์ทวีศักดิ์ ศรีจันทร์โฉม  บรรยาย อุปกรณ์คุ้มครองความปลอดภัยที่ใช้กับสารเคมีวิทยากร : อาจารย์สถาปัตย์  มณีเรือง   ผู้เชี่ยวชาญอุปกรณ์คุ้มครองความปลอดภัยที่ใช้กับสารเคมี บริษัทปิยะมณี กรุ๊ป จำกัดบรรยาย สาธิต การบำรุงรักษา ppe พร้อมการสาธิตวิธีการตรวจสอบความกระชับของหน้ากากป้องกันสารเคมี16.30-17.00 น.ประเมินหลักสูตรการฝึกอบรม เพื่อรับวุฒิบัตรหมายเหตุ  10.30 น. – 10.45 น. พักเบรคภาคเช้า 14.30 น. – 14.45 น. พักเบรคภาคบ่าย
URL:https://training.piyamanee.com/event/%e0%b8%ad%e0%b8%9a%e0%b8%a3%e0%b8%a1%e0%b8%9f%e0%b8%a3%e0%b8%b5-%e0%b8%97%e0%b8%b3%e0%b8%94%e0%b8%b5%e0%b9%80%e0%b8%9e%e0%b8%b7%e0%b9%88%e0%b8%ad%e0%b9%81%e0%b8%9c%e0%b9%88%e0%b8%99%e0%b8%94%e0%b8%b4/
CATEGORIES:ที่ผ่านมาแล้ว
END:VEVENT
BEGIN:VEVENT
DTSTART;TZID=Asia/Krasnoyarsk:20221125T090000
DTEND;TZID=Asia/Krasnoyarsk:20221125T160000
DTSTAMP:20260422T175502
CREATED:20221103T050031Z
LAST-MODIFIED:20230603T063336Z
UID:270-1669366800-1669392000@training.piyamanee.com
SUMMARY:อบรมหลักสูตร ความปลอดภัยในการทำงานในที่อับอากาศ (รอประกาศวันฝึกอบรมใหม่ ครั้งถัดไป!!)
DESCRIPTION:อบรมหลักสูตร ความปลอดภัยในการทำงานในที่อับอากาศ การใช้งานอุปกรณ์เทคนิคในที่อับอากาศ โดยคำแนะนำของผู้เชี่ยวชาญ\n25 พฤศจิกายน 2565 \n\n\n\n📣Piyamanee Training Center หลักสูตร “ความปลอดภัยในการทำงานในที่อับอากาศ” การใช้งานอุปกรณ์เทคนิคในที่อับอากาศ โดยคำแนะนำของผู้เชี่ยวชาญ”วันที่ 25 พฤศจิกายน 2565 เวลา 08.30 – 16.30 น. \n\n\n\n\n\n\n\n\n\n\n\nติดต่อสอบถามได้ที่065-7050-680 ธาราทิพย์061-1149-388 ถนอมลักษณ์
URL:https://training.piyamanee.com/event/%e0%b8%ad%e0%b8%9a%e0%b8%a3%e0%b8%a1%e0%b8%ab%e0%b8%a5%e0%b8%b1%e0%b8%81%e0%b8%aa%e0%b8%b9%e0%b8%95%e0%b8%a3-%e0%b8%84%e0%b8%a7%e0%b8%b2%e0%b8%a1%e0%b8%9b%e0%b8%a5%e0%b8%ad%e0%b8%94%e0%b8%a0%e0%b8%b1/
CATEGORIES:ที่ผ่านมาแล้ว
END:VEVENT
BEGIN:VEVENT
DTSTART;TZID=Asia/Krasnoyarsk:20221118T090000
DTEND;TZID=Asia/Krasnoyarsk:20221118T160000
DTSTAMP:20260422T175502
CREATED:20221103T044620Z
LAST-MODIFIED:20230603T063331Z
UID:263-1668762000-1668787200@training.piyamanee.com
SUMMARY:อบรมหลักสูตร บุคลากรจัดการด้านความปลอดภัยในการขนส่ง (รอประกาศวันฝึกอบรมใหม่ ครั้งถัดไป!!)
DESCRIPTION:อบรมหลักสูตร บุคลากรจัดการด้านความปลอดภัยในการขนส่ง\n18 พฤศจิกายน 2565 \n\n\n\nอบรมหลักสูตร บุคลากรจัดการด้านความปลอดภัยในการขนส่ง \n\n\n\n\n\n\n\n\nรอประกาศอบรม !
URL:https://training.piyamanee.com/event/%e0%b8%ad%e0%b8%9a%e0%b8%a3%e0%b8%a1%e0%b8%ab%e0%b8%a5%e0%b8%b1%e0%b8%81%e0%b8%aa%e0%b8%b9%e0%b8%95%e0%b8%a3-%e0%b8%9a%e0%b8%b8%e0%b8%84%e0%b8%a5%e0%b8%b2%e0%b8%81%e0%b8%a3%e0%b8%88%e0%b8%b1%e0%b8%94/
CATEGORIES:ที่ผ่านมาแล้ว
END:VEVENT
END:VCALENDAR