BEGIN:VCALENDAR
VERSION:2.0
PRODID:-// - ECPv6.7.1//NONSGML v1.0//EN
CALSCALE:GREGORIAN
METHOD:PUBLISH
X-ORIGINAL-URL:https://training.piyamanee.com
X-WR-CALDESC:Events for 
REFRESH-INTERVAL;VALUE=DURATION:PT1H
X-Robots-Tag:noindex
X-PUBLISHED-TTL:PT1H
BEGIN:VTIMEZONE
TZID:Asia/Krasnoyarsk
BEGIN:STANDARD
TZOFFSETFROM:+0700
TZOFFSETTO:+0700
TZNAME:+07
DTSTART:20240101T000000
END:STANDARD
END:VTIMEZONE
BEGIN:VEVENT
DTSTART;TZID=Asia/Krasnoyarsk:20241120T080000
DTEND;TZID=Asia/Krasnoyarsk:20241120T163000
DTSTAMP:20260422T074407
CREATED:20241030T074808Z
LAST-MODIFIED:20241030T074808Z
UID:1959-1732089600-1732120200@training.piyamanee.com
SUMMARY:อบรมหลักสูตร "การประเมินความเสี่ยง และโอกาส ISO9001:2015"
DESCRIPTION:อบรมหลักสูตร “การประเมินความเสี่ยง และโอกาส ISO9001:2015”\n20 พฤศจิกายน 2567 \n\n\n\n\n\n\n\n📣 Piyamanee Service Training Center ขอเชิญเข้าร่วมอบรมหลักสูตร “การประเมินความเสี่ยง และโอกาส ISO9001:2015”
URL:https://training.piyamanee.com/event/%e0%b8%ad%e0%b8%9a%e0%b8%a3%e0%b8%a1%e0%b8%ab%e0%b8%a5%e0%b8%b1%e0%b8%81%e0%b8%aa%e0%b8%b9%e0%b8%95%e0%b8%a3-%e0%b8%81%e0%b8%b2%e0%b8%a3%e0%b8%9b%e0%b8%a3%e0%b8%b0%e0%b9%80%e0%b8%a1%e0%b8%b4/
END:VEVENT
END:VCALENDAR