BEGIN:VCALENDAR
VERSION:2.0
PRODID:-// - ECPv6.7.1//NONSGML v1.0//EN
CALSCALE:GREGORIAN
METHOD:PUBLISH
X-ORIGINAL-URL:https://training.piyamanee.com
X-WR-CALDESC:Events for 
REFRESH-INTERVAL;VALUE=DURATION:PT1H
X-Robots-Tag:noindex
X-PUBLISHED-TTL:PT1H
BEGIN:VTIMEZONE
TZID:Asia/Krasnoyarsk
BEGIN:STANDARD
TZOFFSETFROM:+0700
TZOFFSETTO:+0700
TZNAME:+07
DTSTART:20240101T000000
END:STANDARD
END:VTIMEZONE
BEGIN:VEVENT
DTSTART;TZID=Asia/Krasnoyarsk:20241015T080000
DTEND;TZID=Asia/Krasnoyarsk:20241015T080000
DTSTAMP:20260422T064421
CREATED:20240913T020053Z
LAST-MODIFIED:20240913T020053Z
UID:1893-1728979200-1728979200@training.piyamanee.com
SUMMARY:โครงการอบรมฟรีทำดีเพื่อแผ่นดิน ครั้งที่ 59 "การทำงานบนหลังคาด้วยระบบ LIFELINE ตามมาตรฐานสากล"
DESCRIPTION:โครงการอบรมฟรีทำดีเพื่อแผ่นดิน ครั้งที่ 59 “การทำงานบนหลังคาด้วยระบบ LIFELINE ตามมาตรฐานสากล”\n15 ตุลาคม 2567 \n\n\n\n\n\n\n\n📣 Piyamanee Training Center ขอเชิญเข้าร่วมอบรมสัมมนา โครงการอบรมฟรี ทำดีเพื่อแผ่นดิน ครั้งที่ 59 “การทำงานบนหลังคาด้วยระบบ LIFELINE ตามมาตรฐานสากล” (EN795:2012\, ANZI Z359.1-2007\, OSHA 1926.502 AND 1910.66 COMPLIANT)
URL:https://training.piyamanee.com/event/%e0%b9%82%e0%b8%84%e0%b8%a3%e0%b8%87%e0%b8%81%e0%b8%b2%e0%b8%a3%e0%b8%ad%e0%b8%9a%e0%b8%a3%e0%b8%a1%e0%b8%9f%e0%b8%a3%e0%b8%b5%e0%b8%97%e0%b8%b3%e0%b8%94%e0%b8%b5%e0%b9%80%e0%b8%9e%e0%b8%b7-26/
END:VEVENT
END:VCALENDAR